BEGIN:VCALENDAR
PRODID:NingEventWidget-v1
VERSION:2.0
METHOD:PUBLISH
BEGIN:VTIMEZONE
TZID:Europe/Paris
X-LIC-LOCATION:Europe/Paris
BEGIN:DAYLIGHT
TZOFFSETFROM:+0100
TZOFFSETTO:+0200
TZNAME:CEST
DTSTART:19700329T020000
RRULE:FREQ=YEARLY;BYMONTH=3;BYDAY=-1SU
END:DAYLIGHT
BEGIN:STANDARD
TZOFFSETFROM:+0200
TZOFFSETTO:+0100
TZNAME:CET
DTSTART:19701025T030000
RRULE:FREQ=YEARLY;BYMONTH=10;BYDAY=-1SU
END:STANDARD
END:VTIMEZONE
BEGIN:VEVENT
UID:2485226:Event:1604261
DTSTAMP:20260424T053103Z
SUMMARY:Atelier Formation Welleness Aqua Massage - massage en eau chau
 de
DESCRIPTION:A lâ€™issue de ce stage vous serez en mesure de donner des
  sÃ©ances de massage Wellness Aqua Massage dans de lâ€™eau chaude soit
  Ã  votre clientÃ¨le en spa ou en piscine chaude soit Ã  votre la sphÃ
 ¨re privÃ©e amis famille etc\n\nStage co-organisÃ© par Brigitte Dutter
  (06 44 24 06 55) siteÂ Nomad-WellnessÂ et Jean Pierre Sauvegrain (06 
 11 48 57 30) siteÂ Massage-Boutique\n\nPour un complÃ©ment dâ€™informa
 tion ou pour sâ€™inscrire:Â Â Contact\n\n\nPour plus d'information, al
 ler sur https://epanews.fr/events/atelier-formation-welleness-aqua-mas
 sage-massage-en-eau-chaude
DTSTART;TZID=Europe/Paris:20131123T210000
DTEND;TZID=Europe/Paris:20131124T120000
CATEGORIES:68
LOCATION:Bad Krozingen
WEBSITE:
URL:
CONTACT:06 11 48 57 30
ORGANIZER;CN=WellnessAquaMassage:https://epanews.fr/profile/WellnessAq
 uaMassage
ATTACH;FMTTYPE="image/jpeg":http://storage.ning.com/topology/rest/1.0/
 file/get/1662956105?profile=original
ATTENDEE;ROLE=REQ-PARTICIPANT;PARTSTAT=ACCEPTED;RSVP=TRUE;CN=WellnessA
 quaMassage:https://epanews.fr/profile/WellnessAquaMassage
END:VEVENT
END:VCALENDAR
