BEGIN:VCALENDAR
PRODID:NingEventWidget-v1
VERSION:2.0
METHOD:PUBLISH
BEGIN:VTIMEZONE
TZID:Europe/Paris
X-LIC-LOCATION:Europe/Paris
BEGIN:DAYLIGHT
TZOFFSETFROM:+0100
TZOFFSETTO:+0200
TZNAME:CEST
DTSTART:19700329T020000
RRULE:FREQ=YEARLY;BYMONTH=3;BYDAY=-1SU
END:DAYLIGHT
BEGIN:STANDARD
TZOFFSETFROM:+0200
TZOFFSETTO:+0100
TZNAME:CET
DTSTART:19701025T030000
RRULE:FREQ=YEARLY;BYMONTH=10;BYDAY=-1SU
END:STANDARD
END:VTIMEZONE
BEGIN:VEVENT
UID:2485226:Event:2784442
DTSTAMP:20260422T215025Z
SUMMARY:Atelier \" Esprit Libre \" 3ème exposé
DESCRIPTION:Cycle de rencontres interactives, sous l'éclairage d'un e
 nseignement universel gnostique.3ème rencontre d'un cycle de 8 atelie
 rs: « Les voies et les chemins »Il s'agit de rencontres sous la form
 e d'un cycle de 8 ateliers proposant un approfondissement concernant l
 a spiritualité et la conscience.Lors de ces rencontres interactives, 
 nous pourrons partager et témoigner à partir des questions brûlante
 s qui se posent à nous lorsque nous recherchons le sens profond de la
  vie.Parce que nous nous questionnons, Parce que nous vivons, Parce qu
 e nous cheminons, et le monde avec nous, Nous cherchons des réponses,
  une voie, une compréhension à la hauteur de notre exigence et de no
 tre quête intérieure.Adresse: Hôtel le Clos de Notre-Dame23, rue de
  l' hirondelle 75006 ParisMetro: \"Saint- Michel\" ligne 4-RER B et CH
 oraires: 19h30-21h30Paf: Possibilité d'assister aux 3 premiers atelie
 rs gratuitement sans engagement.30 € pour l'ensemble des 8 ateliers 
 ou 10€ ( étudiants/ demandeurs d'emploi)Contact: +33 (0)6 61 32 04 
 12Atelier 3 : « Les voies et les chemins »Dépassé par la lutte fol
 le pour la vie, devant le fantôme de la pauvreté et la misère, l’
 homme part enfin à la recherche de l’essentiel. Plusieurs voies se 
 présentent à lui. Trois chemins pour répondre à sa quête initiati
 que : l’art, la science et la religion. Conduisent-ils au but recher
 ché?Qu’est-ce que la Gnose ? Où est le vrai ? Comment s’affranch
 ir des dogmes, reflets et représentations ? Qu’est-ce qui nous ouvr
 e la porte ?Cette soirée sera l'occasion de faire le point sur ces \"
 questions qui se posent\" à nous, et de poser quelques premiers jalon
 s que nous approfondirons au cours des différentes soirées de ce cyc
 le, à la lumière d'un enseignement gnostique actuel.Prochains thème
 s:Atelier 4 : « La question de l’origine »Atelier 5 : « Qu’est-
 ce qui nous retient ? Qu’est-ce qui nous libère ?\"Atelier 6 : « L
 ibres dans le monde aujourd’hui »Atelier 7 : « Les écoles des mys
 tères »Atelier 8 : « Continuer son chemin » Fin prévue de cet év
 ènement : 21:30 \n\nPour plus d'information, aller sur https://epane
 ws.fr/events/atelier-esprit-libre-3-me-expos
DTSTART;TZID=Europe/Paris:20170314T193000
DTEND;TZID=Europe/Paris:20170314T213000
CATEGORIES:75
LOCATION:Hôtel Le Clos Notre Dame
WEBSITE:http://paris.rose-croix-d-or.org
URL:http://paris.rose-croix-d-or.org
CONTACT:0661320412
ORGANIZER;CN=sylvanus:https://epanews.fr/profile/sylvanus
ATTACH;FMTTYPE="image/jpeg":http://storage.ning.com/topology/rest/1.0/
 file/get/1663642642?profile=original
ATTENDEE;ROLE=REQ-PARTICIPANT;PARTSTAT=ACCEPTED;RSVP=TRUE;CN=sylvanus:
 https://epanews.fr/profile/sylvanus
END:VEVENT
END:VCALENDAR
