BEGIN:VCALENDAR
PRODID:NingEventWidget-v1
VERSION:2.0
METHOD:PUBLISH
BEGIN:VTIMEZONE
TZID:Europe/Paris
X-LIC-LOCATION:Europe/Paris
BEGIN:DAYLIGHT
TZOFFSETFROM:+0100
TZOFFSETTO:+0200
TZNAME:CEST
DTSTART:19700329T020000
RRULE:FREQ=YEARLY;BYMONTH=3;BYDAY=-1SU
END:DAYLIGHT
BEGIN:STANDARD
TZOFFSETFROM:+0200
TZOFFSETTO:+0100
TZNAME:CET
DTSTART:19701025T030000
RRULE:FREQ=YEARLY;BYMONTH=10;BYDAY=-1SU
END:STANDARD
END:VTIMEZONE
BEGIN:VEVENT
UID:2485226:Event:2779480
DTSTAMP:20260422T174548Z
SUMMARY:Atelier \" Esprit Libre \" 2Ã¨me exposÃ©
DESCRIPTION:Cycle de rencontres interactives, sous l'Ã©clairage d'un e
 nseignement universel gnostique.  2Ã¨me rencontre d'un cycle de 8 atel
 iers: Â« Les besoins existentiels et spirituels Â»  Il s'agit de renco
 ntres sous la forme d'un cycle de 8 ateliers proposant un approfondiss
 ement concernant la spiritualitÃ© et la conscience. Lors de ces rencon
 tres interactives, nous pourrons partager et tÃ©moigner Ã  partir des 
 questions brÃ»lantes qui se posent Ã  nous lorsque nous recherchons le
  sens profond de la vie. Parce que nous nous questionnons, Parce que n
 ous vivons, Parce que nous cheminons, et le monde avec nous, Nous cher
 chons des rÃ©ponses, une voie, une comprÃ©hension Ã  la hauteur de not
 re exigence et de notre quÃªte intÃ©rieure.  Adresse: HÃ´tel le Clos d
 e Notre-Dame 23, rue de l' hirondelle 75006 Paris Metro: \"Saint- Mich
 el\" ligne 4-RER B et C Horaires: 19h30-21h30 Paf:Â PossibilitÃ© d'ass
 ister aux 3 premiers ateliers gratuitement sans engagement. 30 â‚¬ pou
 r l'ensemble des 8 ateliers ou 10â‚¬ ( Ã©tudiants/ demandeurs d'emploi
 ) Contact:Â +33 (0)7 88 48 19 42  Prochaines dates: mardi 14 MARS ( 3Ã
 ¨me atelier)...Â   Atelier 2 : Â« Les besoins existentiels et spiritue
 ls Â»  Au milieu des tensions croissantes de lâ€™humanitÃ© en crise, s
 urgit aussi avec force le besoin vital de retrouver le sens de notre e
 xistence dans lâ€™univers.  Beaucoup aspirent Ã  vivre une vie libre, 
 juste et authentique.  Beaucoup pressentent en eux le lien spirituel q
 ui comme un fil dâ€™Ariane pourrait sortir lâ€™homme de son labyrinthe
  existentiel.  Ecouterons-nous lâ€™Ãªtre intÃ©rieur qui appelle ? Acce
 pterons-nous de nous retourner vers cette lumiÃ¨re ? Lui laisserons-no
 us de lâ€™espace et libÃ¨rerons-nous ainsi la rÃ©ponse Ã  notre quÃªte
  la plus profonde ?  Cette soirÃ©e sera l'occasion de faire le point s
 ur ces \"questions qui se posent\" Ã  nous, et de poser quelques premi
 ers jalons que nous approfondirons au cours des diffÃ©rentes soirÃ©es 
 de ce cycle, Ã  la lumiÃ¨re d'un enseignement gnostique actuel.  Proch
 ains thÃ¨mes:  Atelier 3 : Â« Les voies et les chemins Â»  Atelier 4 :
  Â« La question de lâ€™origine Â»  Atelier 5 : Â« Quâ€™est-ce qui nous
  retient ? Quâ€™est-ce qui nous libÃ¨re ?\"  Atelier 6 : Â« Libres dan
 s le monde aujourdâ€™hui Â»  Atelier 7 : Â« Les Ã©coles des mystÃ¨res 
 Â»  Atelier 8 : Â« Continuer son chemin Â»Â \n\nPour plus d'informatio
 n, aller sur https://epanews.fr/events/atelier-esprit-libre-2-me-expos
 -1
DTSTART;TZID=Europe/Paris:20170228T193000
DTEND;TZID=Europe/Paris:20170228T213000
CATEGORIES:75
LOCATION:HÃ´tel Le Clos Notre Dame
WEBSITE:http://paris.rose-croix-d-or.org
URL:http://paris.rose-croix-d-or.org
CONTACT:0661320412
ORGANIZER;CN=sylvanus:https://epanews.fr/profile/sylvanus
ATTACH;FMTTYPE="image/jpeg":http://storage.ning.com/topology/rest/1.0/
 file/get/1663638788?profile=original
ATTENDEE;ROLE=REQ-PARTICIPANT;PARTSTAT=ACCEPTED;RSVP=TRUE;CN=sylvanus:
 https://epanews.fr/profile/sylvanus
END:VEVENT
END:VCALENDAR
