BEGIN:VCALENDAR
PRODID:NingEventWidget-v1
VERSION:2.0
METHOD:PUBLISH
BEGIN:VTIMEZONE
TZID:Europe/Paris
X-LIC-LOCATION:Europe/Paris
BEGIN:DAYLIGHT
TZOFFSETFROM:+0100
TZOFFSETTO:+0200
TZNAME:CEST
DTSTART:19700329T020000
RRULE:FREQ=YEARLY;BYMONTH=3;BYDAY=-1SU
END:DAYLIGHT
BEGIN:STANDARD
TZOFFSETFROM:+0200
TZOFFSETTO:+0100
TZNAME:CET
DTSTART:19701025T030000
RRULE:FREQ=YEARLY;BYMONTH=10;BYDAY=-1SU
END:STANDARD
END:VTIMEZONE
BEGIN:VEVENT
UID:2485226:Event:2271977
DTSTAMP:20260421T084302Z
SUMMARY:Atelier Espace du Coeur (avec 3 Clairvoyants): Atelier d'évol
 ution collective
DESCRIPTION:Qu'est-ce que vous voulez transformer ou accepter dans vot
 re vie? Venez avec une intention, une question ou une problématique, 
 nous la clarifions. Nous vous donnons les dessous des cartes et les ou
 tils qui pourront vous accompagner vers le changement ou l’acceptati
 on.  Le principe est simple, chacun à son tour, vient exposer ce qu
 il veut clarifier au centre du cercle (à part les observateurs). Pui
 s les clairvoyants Robin, Nathalie et Yann, canalisent ensemble, à pa
 rtir de l’espace de leur Cœur, des informations précises, utiles e
 t efficaces pour vous. Plus vous vous ouvrez, plus vous nous laissez l
 'accès à l’information. Nous nous engageons envers vous à la plus
  grande transparence possible pour nourrir au mieux votre évolution p
 ersonnelle et ce, dans le respect le plus profond de votre personne. C
 ar, grâce à l’espace du Cœur, rien n’est mis à jour que vous n
 e soyez capable de regarder à ce moment de votre vie.  Un problème r
 elationnel, un soucis de santé, une impasse professionnelle, un évé
 nement que vous ne comprenez pas, etc, nous explorons vos sujets avec 
 clairvoyance et bienveillance. Chaque sujet est aussi le sujet de tout
  le groupe qui entre en résonance. Ainsi, chacun peut voir l’autre 
 comme un miroir et tout ce qui vous sera dit et proposé pour permettr
 e votre évolution, le sera aussi pour tout le groupe. Nous avançons 
 ainsi ensemble et conscient que chacun a une petite partie de l’autr
 e en soi. Et chacun soutient l’évolution de l’autre en regardant 
 se qui résonne en lui.  La nature de ce que vous recevrez sera : - de
  l’information concrète, - des symboles qui parleront directement 
  votre inconscient, - des silences qui laisseront la place à un trav
 ail énergétique ou vibratoire, - des reconnections à certaines part
 ies de vous oubliées (vie antérieure, psychogénéalogie, etc…), -
  des ressources à développer, - des exercices ou des pratiques “su
 r-mesure” pour vous aider à accompagner le changement, - des jeux s
 ymboliques qui pourront faire bouger votre manière de fonctionner.   
 Lieu de rendez-vous : à Paris (14ème), à l'Atelier du Voyage, 7 rue
  des berges Hennequines, métro glacière, Alesia ou cité U.  Horaire
  : 10h-18h   Participation : 80 euros  Pour vous inscrire, contactez N
 athalie au 06.60.52.61.98 ou sur contactespaceducoeur@gmail.com\n\nPou
 r plus d'information, aller sur https://epanews.fr/events/atelier-espa
 ce-du-coeur-avec-3-clairvoyants-atelier-d-volution
DTSTART;TZID=Europe/Paris:20150426T100000
DTEND;TZID=Europe/Paris:20150426T180000
CATEGORIES:75
LOCATION:à l'Atelier du Voyage, à Paris (14ème)
WEBSITE:http://www.conscienceducoeur.com
URL:http://www.conscienceducoeur.com
CONTACT:06.60.52.61.98
ORGANIZER;CN="Conscience du Coeur":https://epanews.fr/profile/Conscien
 ceduCoeur
ATTACH;FMTTYPE="image/jpeg":http://storage.ning.com/topology/rest/1.0/
 file/get/1663359890?profile=original
ATTENDEE;ROLE=REQ-PARTICIPANT;PARTSTAT=ACCEPTED;RSVP=TRUE;CN="Conscien
 ce du Coeur":https://epanews.fr/profile/ConscienceduCoeur
END:VEVENT
END:VCALENDAR
