BEGIN:VCALENDAR
PRODID:NingEventWidget-v1
VERSION:2.0
METHOD:PUBLISH
BEGIN:VTIMEZONE
TZID:Europe/Paris
X-LIC-LOCATION:Europe/Paris
BEGIN:DAYLIGHT
TZOFFSETFROM:+0100
TZOFFSETTO:+0200
TZNAME:CEST
DTSTART:19700329T020000
RRULE:FREQ=YEARLY;BYMONTH=3;BYDAY=-1SU
END:DAYLIGHT
BEGIN:STANDARD
TZOFFSETFROM:+0200
TZOFFSETTO:+0100
TZNAME:CET
DTSTART:19701025T030000
RRULE:FREQ=YEARLY;BYMONTH=10;BYDAY=-1SU
END:STANDARD
END:VTIMEZONE
BEGIN:VEVENT
UID:2485226:Event:2612901
DTSTAMP:20260422T094739Z
SUMMARY:atelier en demi journee : perfectionnement radiesthesie - taro
 ts, par Véronique LB
DESCRIPTION:Inscription obligatoire auprès de Source du bonheur au 04
  11 75 16 85 ou 06 77 16 31 11Participation 40 € la demi journée*Un
  chèque d'arrhes de 20€ est à verser pour valider votre inscriptio
 n.Véronique vous propose :* de 10h30 à 13h30 : Radiesthésie soin de
  la personne-santé de la maison * de 15h à 18h : Tarot (consultatio
 ns auprès d'invités (mise en situation de consultations ou consultez
  vos invités ...)\n\nPour plus d'information, aller sur https://epane
 ws.fr/events/atelier-en-demi-journee-perfectionnement-radiesthesie-tar
 ots-par
DTSTART;TZID=Europe/Paris:20160425T103000
DTEND;TZID=Europe/Paris:20160425T180000
CATEGORIES:34
LOCATION:montpellier centre
WEBSITE:http://www.sourcedubonheur.fr
URL:http://www.sourcedubonheur.fr
CONTACT:0411751685
ORGANIZER;CN=sb34:https://epanews.fr/profile/sb34
ATTACH;FMTTYPE="image/jpeg":http://storage.ning.com/topology/rest/1.0/
 file/get/1663545628?profile=original
ATTENDEE;ROLE=REQ-PARTICIPANT;PARTSTAT=ACCEPTED;RSVP=TRUE;CN=sb34:http
 s://epanews.fr/profile/sb34
END:VEVENT
END:VCALENDAR
