BEGIN:VCALENDAR
PRODID:NingEventWidget-v1
VERSION:2.0
METHOD:PUBLISH
BEGIN:VTIMEZONE
TZID:Europe/Paris
X-LIC-LOCATION:Europe/Paris
BEGIN:DAYLIGHT
TZOFFSETFROM:+0100
TZOFFSETTO:+0200
TZNAME:CEST
DTSTART:19700329T020000
RRULE:FREQ=YEARLY;BYMONTH=3;BYDAY=-1SU
END:DAYLIGHT
BEGIN:STANDARD
TZOFFSETFROM:+0200
TZOFFSETTO:+0100
TZNAME:CET
DTSTART:19701025T030000
RRULE:FREQ=YEARLY;BYMONTH=10;BYDAY=-1SU
END:STANDARD
END:VTIMEZONE
BEGIN:VEVENT
UID:2485226:Event:195921
DTSTAMP:20260420T155419Z
SUMMARY:Atelier EFT
DESCRIPTION:Atelier pour découvrir et apprendre la technique de libé
 ration émotionnelle, EFT.\nFacile et simple à utiliser pour soi-mêm
 e et les proches, elle nous permet de soulager et guérir des douleurs
  physiques et émotionnels, dépendances, peurs et souvenirs traumatiq
 ues.\nUne séance d'accompagnement par téléphone est offerte à chaq
 ue participant pour l'aider dans la mise en pratique après le stage.\
 nPrix de la journée: 110 euros\n\nPour plus d'information, aller sur 
 https://epanews.fr/events/atelier-eft
DTSTART;TZID=Europe/Paris:20110205T000000
DTEND;TZID=Europe/Paris:20110205T235900
CATEGORIES:34
LOCATION:Béziers
WEBSITE:
URL:
CONTACT:04 67 39 12 74
ORGANIZER;CN="Maria-Elisa Hurtado-Graciet":https://epanews.fr/profile/
 MariaElisaGracietHurtado
ATTACH;FMTTYPE="image/jpeg":
ATTENDEE;ROLE=REQ-PARTICIPANT;PARTSTAT=ACCEPTED;RSVP=TRUE;CN="Maria-El
 isa Hurtado-Graciet":https://epanews.fr/profile/MariaElisaGracietHurta
 do
END:VEVENT
END:VCALENDAR
