BEGIN:VCALENDAR
PRODID:NingEventWidget-v1
VERSION:2.0
METHOD:PUBLISH
BEGIN:VTIMEZONE
TZID:Europe/Paris
X-LIC-LOCATION:Europe/Paris
BEGIN:DAYLIGHT
TZOFFSETFROM:+0100
TZOFFSETTO:+0200
TZNAME:CEST
DTSTART:19700329T020000
RRULE:FREQ=YEARLY;BYMONTH=3;BYDAY=-1SU
END:DAYLIGHT
BEGIN:STANDARD
TZOFFSETFROM:+0200
TZOFFSETTO:+0100
TZNAME:CET
DTSTART:19701025T030000
RRULE:FREQ=YEARLY;BYMONTH=10;BYDAY=-1SU
END:STANDARD
END:VTIMEZONE
BEGIN:VEVENT
UID:2485226:Event:2146533
DTSTAMP:20260423T174948Z
SUMMARY:Atelier EFT (technique de libération émotionnelle)
DESCRIPTION:DANS BELLECHASSE (QUÉBEC) - Atelier-Conférence EFT (tech
 nique de libération émotionnelle-tapotting)Venez apprendre comment f
 onctionnent les mémoires, comment les libérer avec l'EFT. Aussi des 
 techniques pour diminuer le stress, mieux dormir, mieux respirer, etc.
 - Vous vivez avec un traumatisme ?- Vous ressentez de la colère ? de 
 la tristesse ?- Vous désirez vivre avec une paix intérieure ?- Vous 
 vivez un deuil difficile ?C'est avec plaisir que je vous accompagnerai
  vers un mieux-être par des techniques faciles et simples pour mieux 
 vivre au quotidien. Date : Dimanche 11 janvier 2015Heure : 13 h 30End
 roit : Clinique Pur Confort (Marielle Poulin, prop.)(4767, rg Sud-Est,
  St-Charles-de Bellechasse)Coût : 50 $ / pers.Inscription obligatoire
 , places limitéesInformation et inscription : 418 903-2418 ou stpier
 remj63@gmail.com(avant le 7 janvier 2015 - places limitées)Site Web :
  http://goo.gl/HgukPmBONUS ! Lisez les 30 premières pages de mon liv
 re \"Carnets de tendresse\" en cliquant sur le lien suivant :Cliquez =
 ==>>> http://goo.gl/f7xOjK\n\nPour plus d'information, aller sur http
 s://epanews.fr/events/atelier-eft-technique-de-lib-ration-motionnelle
DTSTART;TZID=Europe/Paris:20150111T133000
DTEND;TZID=Europe/Paris:20150111T163000
CATEGORIES:québec
LOCATION:MRC de Bellechasse (Québec)
WEBSITE:http://goo.gl/HgukPm
URL:http://goo.gl/HgukPm
CONTACT:
ORGANIZER;CN="Marie-Jo coach EFT":https://epanews.fr/profile/MarieJoco
 achEFT
ATTACH;FMTTYPE="image/jpeg":http://storage.ning.com/topology/rest/1.0/
 file/get/1663271281?profile=original
ATTENDEE;ROLE=REQ-PARTICIPANT;PARTSTAT=ACCEPTED;RSVP=TRUE;CN="Marie-Jo
  coach EFT":https://epanews.fr/profile/MarieJocoachEFT
END:VEVENT
END:VCALENDAR
