BEGIN:VCALENDAR
PRODID:NingEventWidget-v1
VERSION:2.0
METHOD:PUBLISH
BEGIN:VTIMEZONE
TZID:Europe/Paris
X-LIC-LOCATION:Europe/Paris
BEGIN:DAYLIGHT
TZOFFSETFROM:+0100
TZOFFSETTO:+0200
TZNAME:CEST
DTSTART:19700329T020000
RRULE:FREQ=YEARLY;BYMONTH=3;BYDAY=-1SU
END:DAYLIGHT
BEGIN:STANDARD
TZOFFSETFROM:+0200
TZOFFSETTO:+0100
TZNAME:CET
DTSTART:19701025T030000
RRULE:FREQ=YEARLY;BYMONTH=10;BYDAY=-1SU
END:STANDARD
END:VTIMEZONE
BEGIN:VEVENT
UID:2485226:Event:1315872
DTSTAMP:20260421T054718Z
SUMMARY:Atelier Ecoute active et empathie
DESCRIPTION:SAMEDI 4 MAI â€“ 14h Ã  15h30 : Lâ€™Ã©coute active et lâ€™
 empathieLâ€™Ã©coute active est une qualitÃ© dâ€™Ã©coute dans une dÃ©ma
 rche volontaire, pour sâ€™intÃ©resser Ã  son interlocuteur : câ€™est a
 ccueillir la parole de lâ€™autre en toute bienveillance. Elle permet d
 â€™Ã©tablir une relation vÃ©ritable avec les Ãªtres.Lâ€™empathie câ€™e
 st comprendre les sentiments et les Ã©motions dâ€™une autre personne, 
 tout en maintenant une distance affective par rapport Ã  cette derniÃ¨
 re. Lâ€™empathie est diffÃ©rente de la sympathie, de la compassion, ou
  ...de la Â«contagion Ã©motionnelleÂ».AssociÃ©es, elles amÃ©liorent le
 s comportements et la qualitÃ© de communication, en favorisant le dial
 ogue et la coopÃ©ration. Elles ouvrent le cÅ“ur, elles amÃ¨nent vers u
 n mieux-Ãªtre qui facilitent lâ€™Ã©panouissement de chacun.2 tests lud
 iques vous seront proposÃ©s pendant lâ€™atelier pour tester votre Ã©co
 ute et votre empathie - nâ€™oubliez pas vos stylos !http://www.lebonse
 nsdesetoiles.com/ateliers/ecoute-et-empathie/*** L'ESPRIT DES ATELIERS
 :Des outils, des mÃ©thodes, en toute simplicitÃ© et convivialitÃ© avec
  un objectif : le partage !Ces ateliers vous permettent dâ€™apprendre,
  de progresser, de partager, de rencontrer, dâ€™Ã©voluer !Pendant 1h30
  je vous donne des clÃ©s concrÃ¨tes pour passer Ã  lâ€™action. DÃ©s la
  sortie de lâ€™atelier, vous pourrez les mettre en application aussitÃ
 ´t !Chaque atelier accueille 12 personnes maximum pour une meilleure c
 onvivialitÃ©.Vous pouvez intervenir quand vous voulez pour apporter vo
 tre contribution, ce qui permet un plus grand partage entre les partic
 ipants et un Ã©change entre tous !Les thÃ¨mes sont prÃ©parÃ©s et prÃ©s
 entÃ©s par moi-mÃªme. Le ton se veut trÃ¨s simple et accessible Ã  tou
 s.*** Cabinet professionnel avec une salle trÃ¨s confortable.23 rue Ri
 chelieu 75001. 80A36. RDC droite.12 euros par personne. 12 personnes m
 aximum.\n\nPour plus d'information, aller sur https://epanews.fr/event
 s/atelier-ecoute-active-et-empathie
DTSTART;TZID=Europe/Paris:20130504T140000
DTEND;TZID=Europe/Paris:20130504T153000
CATEGORIES:75
LOCATION:Salle professionnelle
WEBSITE:http://www.lebonsensdesetoiles.com
URL:http://www.lebonsensdesetoiles.com
CONTACT:
ORGANIZER:isabelle Le Bon Sens des Etoiles
ATTACH;FMTTYPE="image/jpeg":http://storage.ning.com/topology/rest/1.0/
 file/get/1662817388?profile=original
ATTENDEE;ROLE=REQ-PARTICIPANT;PARTSTAT=ACCEPTED;RSVP=TRUE;CN=isabelle:
 https://epanews.fr/profile/isabelle
END:VEVENT
END:VCALENDAR
