BEGIN:VCALENDAR
PRODID:NingEventWidget-v1
VERSION:2.0
METHOD:PUBLISH
BEGIN:VTIMEZONE
TZID:Europe/Paris
X-LIC-LOCATION:Europe/Paris
BEGIN:DAYLIGHT
TZOFFSETFROM:+0100
TZOFFSETTO:+0200
TZNAME:CEST
DTSTART:19700329T020000
RRULE:FREQ=YEARLY;BYMONTH=3;BYDAY=-1SU
END:DAYLIGHT
BEGIN:STANDARD
TZOFFSETFROM:+0200
TZOFFSETTO:+0100
TZNAME:CET
DTSTART:19701025T030000
RRULE:FREQ=YEARLY;BYMONTH=10;BYDAY=-1SU
END:STANDARD
END:VTIMEZONE
BEGIN:VEVENT
UID:2485226:Event:45750
DTSTAMP:20260421T072136Z
SUMMARY:atelier échanges de massages
DESCRIPTION:Je propose le lundi 12 avril 2010 de 14h à 18h00 un ateli
 er d'échanges de massages où chacun deviendra alternativement masseu
 r et massé. L'atelier est ouvert aux personnes ayant quelques notions
  de massage.\nSont fournis: les tables de massage, les draps, les huil
 es, la location de la salle , l'assurance des biens et des personnes e
 t bien sûr une collation bien méritée.\nparticipation: 20 euros/ pe
 rs\ntarif dégressif si il a une dizaine d'inscrits\n\nL'atelier est m
 aintenu à partir de 4 inscriptions confirmées.\nPour toutes informat
 ions 06.26.82.45.94 ou lerouxsylvaine@yahoo.fr\n\nPour plus d'informat
 ion, aller sur https://epanews.fr/events/atelier-echanges-de-massages
DTSTART;TZID=Europe/Paris:20100412T150000
DTEND;TZID=Europe/Paris:20100412T173000
CATEGORIES:13
LOCATION:centre BIO+
WEBSITE:
URL:
CONTACT:06.26.82.45.94
ORGANIZER;CN="Sylvaine Leroux":https://epanews.fr/profile/SylvaineLero
 ux
ATTACH;FMTTYPE="image/jpeg":http://storage.ning.com/topology/rest/1.0/
 file/get/1662294717?profile=original
ATTENDEE;ROLE=REQ-PARTICIPANT;PARTSTAT=ACCEPTED;RSVP=TRUE;CN="Sylvaine
  Leroux":https://epanews.fr/profile/SylvaineLeroux
END:VEVENT
END:VCALENDAR
