BEGIN:VCALENDAR
PRODID:NingEventWidget-v1
VERSION:2.0
METHOD:PUBLISH
BEGIN:VTIMEZONE
TZID:Europe/Paris
X-LIC-LOCATION:Europe/Paris
BEGIN:DAYLIGHT
TZOFFSETFROM:+0100
TZOFFSETTO:+0200
TZNAME:CEST
DTSTART:19700329T020000
RRULE:FREQ=YEARLY;BYMONTH=3;BYDAY=-1SU
END:DAYLIGHT
BEGIN:STANDARD
TZOFFSETFROM:+0200
TZOFFSETTO:+0100
TZNAME:CET
DTSTART:19701025T030000
RRULE:FREQ=YEARLY;BYMONTH=10;BYDAY=-1SU
END:STANDARD
END:VTIMEZONE
BEGIN:VEVENT
UID:2485226:Event:49873
DTSTAMP:20260420T120705Z
SUMMARY:ATELIER ECHANGES DE MASSAGES LE 1 MAI OU LE 2 MAI
DESCRIPTION:Bonjour,\nJe vous invite au prochain atelier mensuel d'éc
 hanges massages qui aura lieu soit le samedi 1 mai soit le dimanche 2 
 mai 2010. (Le plus grand nombre de candidats déterminant le jour de l
 'atelier)\nAu LOFT-ZEN, Lyon Croix-Rousse (espace privé, sans but com
 mercial ou professionnel)\nNous commencerons l'atelier à 9h Nous pouv
 ons arriver à partir de 8h30.\nFin d'atelier prévu vers 20 h\nCe cou
 rrier est destiné aux personnes qui ne sont pas adhérentes à la Cha
 ine Echanges Massages.\nPour vous inscrire: Le coordinateur: jm-masse@
 dbmail.com Tel: 06 27 11 31 25\nEst à votre disposition\nUn premier a
 perçu du menu de la journée :\nLe matin, méditation (30 mn) initiat
 ion au tai ji quan en rapport avec le massage.\nPour midi un petit rep
 as sorti du panier, animé de questions diverses à \"Qui mieux-mieux 
 !!!\nAprès midi: Atelier de massages sur le principe de trois personn
 es: Un(e) massé(e) deux masseurs (seuses) l'un montrant à l'autre…
 \nN'oublions pas un défraiement de 10€ pour (chauffage, eau nettoya
 ges, etc.)\nLe LOFT-ZEN propose différentes activités. Vous pouvez c
 onsulter ma page: http://epanews.ning.com/profile/jmmasse\nVite à vos
  mails Merci !!!\nPier\n\nPour plus d'information, aller sur https://e
 panews.fr/events/atelier-echanges-de-massages-1
DTSTART;TZID=Europe/Paris:20100501T000000
DTEND;TZID=Europe/Paris:20100502T235900
CATEGORIES:69
LOCATION:Au Loft-Zen
WEBSITE:http://maps.google.com/maps?f=q&source=s_q&hl=fr&geocode=&q=12
 +RUE+GIGODOT+69004+LYON&sll=45.778438,4.835691&sspn=0.006899,0.019248&
 ie=UTF8&hq=&hnear=12+Rue+Gigodot,+69004+Lyon,+Rh%C3%B4ne,+Rh%C3%B4ne-A
 lpes,+France&ll=45.778269,4.835958&spn=0.007213,0.019248&z=16
URL:http://maps.google.com/maps?f=q&source=s_q&hl=fr&geocode=&q=12+RUE
 +GIGODOT+69004+LYON&sll=45.778438,4.835691&sspn=0.006899,0.019248&ie=U
 TF8&hq=&hnear=12+Rue+Gigodot,+69004+Lyon,+Rh%C3%B4ne,+Rh%C3%B4ne-Alpes
 ,+France&ll=45.778269,4.835958&spn=0.007213,0.019248&z=16
CONTACT:06 27 11 31 25
ORGANIZER;CN=gem-masser:https://epanews.fr/profile/gem_masser
ATTACH;FMTTYPE="image/jpeg":http://storage.ning.com/topology/rest/1.0/
 file/get/1662297398?profile=original
ATTENDEE;ROLE=REQ-PARTICIPANT;PARTSTAT=ACCEPTED;RSVP=TRUE;CN=gem-masse
 r:https://epanews.fr/profile/gem_masser
END:VEVENT
END:VCALENDAR
