BEGIN:VCALENDAR
PRODID:NingEventWidget-v1
VERSION:2.0
METHOD:PUBLISH
BEGIN:VTIMEZONE
TZID:Europe/Paris
X-LIC-LOCATION:Europe/Paris
BEGIN:DAYLIGHT
TZOFFSETFROM:+0100
TZOFFSETTO:+0200
TZNAME:CEST
DTSTART:19700329T020000
RRULE:FREQ=YEARLY;BYMONTH=3;BYDAY=-1SU
END:DAYLIGHT
BEGIN:STANDARD
TZOFFSETFROM:+0200
TZOFFSETTO:+0100
TZNAME:CET
DTSTART:19701025T030000
RRULE:FREQ=YEARLY;BYMONTH=10;BYDAY=-1SU
END:STANDARD
END:VTIMEZONE
BEGIN:VEVENT
UID:2485226:Event:2195996
DTSTAMP:20260425T204412Z
SUMMARY:Atelier du Sensible
DESCRIPTION:\nPar des exercices de perception consciente, affiner notr
 e écoute sensible de nos relations avec nos environnements.\nTelle pl
 ante, tel minéral, telle musique a un effet de ressourcement sur nous
 . Dans quel lieu du corps, que se passe t'il ? Comment optimiser notre
  ressourcement ?\n\n\n\nPour plus d'information, aller sur https://epa
 news.fr/events/atelier-du-sensible
DTSTART;TZID=Europe/Paris:20150125T100000
DTEND;TZID=Europe/Paris:20150125T130000
CATEGORIES:78
LOCATION:Montigny le Bretonneux
WEBSITE:https://www.facebook.com/events/418184061679628/?notif_t=plan_
 user_invited
URL:https://www.facebook.com/events/418184061679628/?notif_t=plan_user
 _invited
CONTACT:06 16 79 81 96
ORGANIZER:Antoine Guy
ATTACH;FMTTYPE="image/jpeg":http://storage.ning.com/topology/rest/1.0/
 file/get/1663310681?profile=original
ATTENDEE;ROLE=REQ-PARTICIPANT;PARTSTAT=ACCEPTED;RSVP=TRUE;CN=AntoineD:
 https://epanews.fr/profile/Humanos
END:VEVENT
END:VCALENDAR
