BEGIN:VCALENDAR
PRODID:NingEventWidget-v1
VERSION:2.0
METHOD:PUBLISH
BEGIN:VTIMEZONE
TZID:Europe/Paris
X-LIC-LOCATION:Europe/Paris
BEGIN:DAYLIGHT
TZOFFSETFROM:+0100
TZOFFSETTO:+0200
TZNAME:CEST
DTSTART:19700329T020000
RRULE:FREQ=YEARLY;BYMONTH=3;BYDAY=-1SU
END:DAYLIGHT
BEGIN:STANDARD
TZOFFSETFROM:+0200
TZOFFSETTO:+0100
TZNAME:CET
DTSTART:19701025T030000
RRULE:FREQ=YEARLY;BYMONTH=10;BYDAY=-1SU
END:STANDARD
END:VTIMEZONE
BEGIN:VEVENT
UID:2485226:Event:2418483
DTSTAMP:20260423T094753Z
SUMMARY:Modification demandée
DESCRIPTION:Comment se défaire de nos vieilles blessures familiales, 
 sentimentales, sociales, karmiques ? En guérissant notre Cœur via le
  Pardon… \n \nQu'est-ce que le pardon et suis-je capable de pardon
 ner ? Comment cette question raisonne-t-elle en moi ?\nCertains d'entr
 e nous peuvent se sentir désemparés face à cette question.\nPourtan
 t quelques soient nos croyances, le Pardon fait écho en nous.\n Pourq
 uoi ?\nParce que le Pardon permet de guérir nos blessures intimes, en
 fouies au plus profond de nous-mêmes au travers de notre coeur.\n Co
 mment ?\nC'est ce que vous découvrirez au travers de la magie de cet 
 atelier...\nLa MAGIE DU PARDON est un rituel simple, très puissant e
 t profondément thérapeutique. \nPar son approche transpersonnelle, 
 il nous offre la possibilité de faire \"œuvre de pardon\" vis à vis
  des autres, de nous- mêmes et des absents... \n\nPour plus d'inform
 ation, aller sur https://epanews.fr/events/atelier-du-pardon-nos-enfan
 ts-l-enfant-int-rieur-1
DTSTART;TZID=Europe/Paris:20151122T140000
DTEND;TZID=Europe/Paris:20151122T180000
CATEGORIES:31, 09, 81, 82, 32
LOCATION:Lieu dit Reynaguet
WEBSITE:http://www.soins-energetiques-toulouse.com/
URL:http://www.soins-energetiques-toulouse.com/
CONTACT:06 16 122 500
ORGANIZER;CN=LoliTam:https://epanews.fr/profile/LoliTam
ATTACH;FMTTYPE="image/jpeg":http://storage.ning.com/topology/rest/1.0/
 file/get/1663449077?profile=original
ATTENDEE;ROLE=REQ-PARTICIPANT;PARTSTAT=ACCEPTED;RSVP=TRUE;CN=LoliTam:h
 ttps://epanews.fr/profile/LoliTam
END:VEVENT
END:VCALENDAR
