BEGIN:VCALENDAR
PRODID:NingEventWidget-v1
VERSION:2.0
METHOD:PUBLISH
BEGIN:VTIMEZONE
TZID:Europe/Paris
X-LIC-LOCATION:Europe/Paris
BEGIN:DAYLIGHT
TZOFFSETFROM:+0100
TZOFFSETTO:+0200
TZNAME:CEST
DTSTART:19700329T020000
RRULE:FREQ=YEARLY;BYMONTH=3;BYDAY=-1SU
END:DAYLIGHT
BEGIN:STANDARD
TZOFFSETFROM:+0200
TZOFFSETTO:+0100
TZNAME:CET
DTSTART:19701025T030000
RRULE:FREQ=YEARLY;BYMONTH=10;BYDAY=-1SU
END:STANDARD
END:VTIMEZONE
BEGIN:VEVENT
UID:2485226:Event:680132
DTSTAMP:20260422T061232Z
SUMMARY:Atelier du Dimanche Qi Gong avec Cathy Villain-Roger
DESCRIPTION:LE MATIN : ZHI NENG Qi Gong\nCet atelier s’adresse à to
 us, c’est un atelier bien–être dans lequel nous allons pratiquer 
 des  automassages, la   relaxation et des éducatifs qui nous permet
 tront de prendre conscience de notre corps, de notre respiration.\nLes
  bases de la pratique du QI GONG seront posées à travers la découv
 erte du ZHI NENG QI GONG cette pratique permet de mettre nos énergi
 es en contact avec les énergies de l’environnement, développe les 
 qualités de création, le rêve et l’imagination, favorise l’éli
 mination des toxines.\nL'APRES-MIDI: Qi Gong des Yeux.\nLa pratique du
  Qi Gong DES YEUX, soulage la fatigue oculaire, prévient le vieillis
 sement de l’œil , améliore l’acuité visuelle.\n\nPrévoir une 
 tenue souple, chaussettes, une petite couverture , un coussin style za
 fu, des chaussures souples pour pratiquer dehors\n    Cathy VILLAIN
 -ROGER \n\n        06.76.42.23.23\n    Dilômée de Instit
 ut Européen de Qi Gong (IEQG)\n    Association DAOLU QI GONG loi 1
 901 \n\n\n    http://daoluqigong.com/ \n\n\n\nPour plus d'informat
 ion, aller sur https://epanews.fr/events/atelier-du-dimanche-qi-gong-a
 vec-cathy-villain-roger
DTSTART;TZID=Europe/Paris:20120219T090000
DTEND;TZID=Europe/Paris:20120219T163000
CATEGORIES:13
LOCATION:la bouillaidsse
WEBSITE:http://www.espacelila.com/cours-de-yoga-et-qi-gong.php
URL:http://www.espacelila.com/cours-de-yoga-et-qi-gong.php
CONTACT:0676422323
ORGANIZER:Cathy Villain-Roger
ATTACH;FMTTYPE="image/jpeg":http://storage.ning.com/topology/rest/1.0/
 file/get/1662550332?profile=original
ATTENDEE;ROLE=REQ-PARTICIPANT;PARTSTAT=ACCEPTED;RSVP=TRUE;CN="Victoria
  Nalin":https://epanews.fr/profile/VictoriaNalin
END:VEVENT
END:VCALENDAR
