BEGIN:VCALENDAR
PRODID:NingEventWidget-v1
VERSION:2.0
METHOD:PUBLISH
BEGIN:VTIMEZONE
TZID:Europe/Paris
X-LIC-LOCATION:Europe/Paris
BEGIN:DAYLIGHT
TZOFFSETFROM:+0100
TZOFFSETTO:+0200
TZNAME:CEST
DTSTART:19700329T020000
RRULE:FREQ=YEARLY;BYMONTH=3;BYDAY=-1SU
END:DAYLIGHT
BEGIN:STANDARD
TZOFFSETFROM:+0200
TZOFFSETTO:+0100
TZNAME:CET
DTSTART:19701025T030000
RRULE:FREQ=YEARLY;BYMONTH=10;BYDAY=-1SU
END:STANDARD
END:VTIMEZONE
BEGIN:VEVENT
UID:2485226:Event:1403181
DTSTAMP:20260422T175421Z
SUMMARY:Atelier du coeur
DESCRIPTION:« L’ Atelier du Cœur ! »\nOrganisé par Dorothée Ca
 uvy et Franck Aubert\n\nDorothée Cauvy\nNaturopathe – Formatrice ma
 ssages - Praticienne ayurvédique\nSoin du péricarde Bio Energie Cell
 ulaire\n06 12 21 76 69\nwww.ayurvedique-nature.com\n \n\n Franck Aub
 ert\nThérapies relationnelles - Libération du péricarde \nGuériso
 n de l’Enfant intérieur – Soins énergie\nMassage Bien être – 
 Méditation \nwww.lapprenti-sage.jimdo.com\n \n\n\n\n\n Journée co
 nsacrée à l’approche énergétique, ostéopathique\net spirituelle
  de la Guérison du Cœur.\nMéditation – Cercle d’échange – So
 ins libération du Péricarde\n \nRepas du midi tiré du sac en parta
 ge commun\nTarif de l’Atelier : 80€\n\nPour plus d'information, a
 ller sur https://epanews.fr/events/atelier-du-coeur
DTSTART;TZID=Europe/Paris:20130630T093000
DTEND;TZID=Europe/Paris:20130630T170000
CATEGORIES:83
LOCATION:Salle\" La Pépinière\"
WEBSITE:
URL:
CONTACT:Claire PENNA  au 06 14 25 83 79 ou Dorothée Cauvy  06 12 21 7
 6 69  Franck Aubert : 06 19 15 16 70
ORGANIZER;CN="Franck et Nadine Sarah Aubert":https://epanews.fr/profil
 e/FranckAUBERT
ATTACH;FMTTYPE="image/jpeg":http://storage.ning.com/topology/rest/1.0/
 file/get/1662859687?profile=original
ATTENDEE;ROLE=REQ-PARTICIPANT;PARTSTAT=ACCEPTED;RSVP=TRUE;CN="Franck e
 t Nadine Sarah Aubert":https://epanews.fr/profile/FranckAUBERT
END:VEVENT
END:VCALENDAR
