BEGIN:VCALENDAR
PRODID:NingEventWidget-v1
VERSION:2.0
METHOD:PUBLISH
BEGIN:VTIMEZONE
TZID:Europe/Paris
X-LIC-LOCATION:Europe/Paris
BEGIN:DAYLIGHT
TZOFFSETFROM:+0100
TZOFFSETTO:+0200
TZNAME:CEST
DTSTART:19700329T020000
RRULE:FREQ=YEARLY;BYMONTH=3;BYDAY=-1SU
END:DAYLIGHT
BEGIN:STANDARD
TZOFFSETFROM:+0200
TZOFFSETTO:+0100
TZNAME:CET
DTSTART:19701025T030000
RRULE:FREQ=YEARLY;BYMONTH=10;BYDAY=-1SU
END:STANDARD
END:VTIMEZONE
BEGIN:VEVENT
UID:2485226:Event:1150211
DTSTAMP:20260419T184235Z
SUMMARY:Atelier du bonheur
DESCRIPTION:Parce que tout le monde mérite d'être heureux !\n \nVou
 s allez découvrir le meilleur de vous-même en seulement 3 heures !\n
 Des tests qui révèlent vos plus belles forces !\nDes pratiques qui v
 ous apprennent à développer votre optimisme !\nDes exercices pour bo
 oster votre confiance en vous !\n \nVenez vous offrir le Déclic Posi
 tif qui vous changera la vie !\nChangez votre regard sur la vie et sur
  vous-même !\nRetrouvez la paix avec vous-même et renforcez votre es
 time de soi !\nLes clés du lâcher prise et de la résilience à votr
 e portée !\n \nUne occasion unique de booster votre capital bonheur 
 !\n\nPour plus d'information, aller sur https://epanews.fr/events/atel
 ier-du-bonheur-1
DTSTART;TZID=Europe/Paris:20130216T143000
DTEND;TZID=Europe/Paris:20130216T173000
CATEGORIES:95
LOCATION:Pontoise
WEBSITE:http://www.coeursacorps.com/activit%C3%A9s/atelier-du-bonheur/
URL:http://www.coeursacorps.com/activit%C3%A9s/atelier-du-bonheur/
CONTACT:0130320346
ORGANIZER;CN="Nadia Poullain":https://epanews.fr/profile/NadiaPoullain
ATTACH;FMTTYPE="image/jpeg":http://storage.ning.com/topology/rest/1.0/
 file/get/1662751806?profile=original
ATTENDEE;ROLE=REQ-PARTICIPANT;PARTSTAT=ACCEPTED;RSVP=TRUE;CN="Nadia Po
 ullain":https://epanews.fr/profile/NadiaPoullain
END:VEVENT
END:VCALENDAR
