BEGIN:VCALENDAR
PRODID:NingEventWidget-v1
VERSION:2.0
METHOD:PUBLISH
BEGIN:VTIMEZONE
TZID:Europe/Paris
X-LIC-LOCATION:Europe/Paris
BEGIN:DAYLIGHT
TZOFFSETFROM:+0100
TZOFFSETTO:+0200
TZNAME:CEST
DTSTART:19700329T020000
RRULE:FREQ=YEARLY;BYMONTH=3;BYDAY=-1SU
END:DAYLIGHT
BEGIN:STANDARD
TZOFFSETFROM:+0200
TZOFFSETTO:+0100
TZNAME:CET
DTSTART:19701025T030000
RRULE:FREQ=YEARLY;BYMONTH=10;BYDAY=-1SU
END:STANDARD
END:VTIMEZONE
BEGIN:VEVENT
UID:2485226:Event:1609435
DTSTAMP:20260423T100812Z
SUMMARY:Atelier Donner et Recevoir Reiki
DESCRIPTION:Atelier ouvert à tous, pour partager des séances REIKI e
 n groupe. Mettre en pratique ou découvrir le reiki  Chacun reçoit et
  donne du REIKI Méditation et échange au travers du reiki   Le lieux
  et l'horaire exact vous seront donnés ultérieurement suivant le nom
 bre d'inscrit.  Cela peut être au siège de l'association ou à l'esp
 ace  associatif.  Tarif   Atelier donner et recevoir reiki 15 euro p
 our les adhérents de l'Association Association Agapee Evoluence  20 e
 uro l'atelier découverte pour les non-adhérents. Pour les Ateliers s
 uivant la cotisation à l'association vous sera demandée. 32 euro pou
 r l’année  Plus d'info, contacter Marlène BESCOND 06 20 12 88 62  
 Pensez à vous inscrire au plus tôt\n\nPour plus d'information, aller
  sur https://epanews.fr/events/atelier-donner-et-recevoir-reiki
DTSTART;TZID=Europe/Paris:20131117T100000
DTEND;TZID=Europe/Paris:20131117T180000
CATEGORIES:13
LOCATION:ENTRESSEN, Bouches-du-Rhône, PACA
WEBSITE:http://www.centre-psycho-kimcopsi.fr/
URL:http://www.centre-psycho-kimcopsi.fr/
CONTACT:33620128862
ORGANIZER;CN="Marlène BESCOND":https://epanews.fr/profile/Marlene150
ATTACH;FMTTYPE="image/jpeg":http://storage.ning.com/topology/rest/1.0/
 file/get/1662962141?profile=original
ATTENDEE;ROLE=REQ-PARTICIPANT;PARTSTAT=ACCEPTED;RSVP=TRUE;CN="Marlène
  BESCOND":https://epanews.fr/profile/Marlene150
END:VEVENT
END:VCALENDAR
