BEGIN:VCALENDAR
PRODID:NingEventWidget-v1
VERSION:2.0
METHOD:PUBLISH
BEGIN:VTIMEZONE
TZID:Europe/Paris
X-LIC-LOCATION:Europe/Paris
BEGIN:DAYLIGHT
TZOFFSETFROM:+0100
TZOFFSETTO:+0200
TZNAME:CEST
DTSTART:19700329T020000
RRULE:FREQ=YEARLY;BYMONTH=3;BYDAY=-1SU
END:DAYLIGHT
BEGIN:STANDARD
TZOFFSETFROM:+0200
TZOFFSETTO:+0100
TZNAME:CET
DTSTART:19701025T030000
RRULE:FREQ=YEARLY;BYMONTH=10;BYDAY=-1SU
END:STANDARD
END:VTIMEZONE
BEGIN:VEVENT
UID:2485226:Event:2272578
DTSTAMP:20260422T051714Z
SUMMARY:Atelier distillation des plantes aromatiques
DESCRIPTION:Cet atelier distillation a pour but de vous faire découvr
 ir le principe de la distillation des plantes aromatiques.\nAu program
 me, matinée théorique: historique de la distillation, huiles essenti
 elles et eaux florales, distillation et alchimie, présentation de la 
 plante distillée (cueillette, mode de culture, symbolique et historiq
 ue...)\nAprès midi pratique avec la présentation du matériel, le mo
 ntage et la distillation. Échange autour des senteurs et saveurs et d
 e votre ressenti.\nCaque participant repartira avec 100 ml d'eau flora
 le.\nPlante distillée: le Romarin.\nLe repas de midi est un repas par
 tage où chacun vient avec un plat sucré ou salé à partager.\nLe no
 mbre de participants étant limité à 8 personnes il vous faut réser
 ver votre place. (tarif 40 euros la journée).\nDans l'attente de vous
  retrouver au sein du vivant.\nAmcalement\nCyril\n\nPour plus d'inform
 ation, aller sur https://epanews.fr/events/atelier-distillation-des-pl
 antes-aromatiques
DTSTART;TZID=Europe/Paris:20150412T000000
DTEND;TZID=Europe/Paris:20150412T235900
CATEGORIES:11
LOCATION:Belpech
WEBSITE:
URL:
CONTACT:06 17 24 15 49
ORGANIZER;CN=Cyril:https://epanews.fr/profile/Cyril585
ATTACH;FMTTYPE="image/jpeg":http://storage.ning.com/topology/rest/1.0/
 file/get/1663358193?profile=original
ATTENDEE;ROLE=REQ-PARTICIPANT;PARTSTAT=ACCEPTED;RSVP=TRUE;CN=Cyril:htt
 ps://epanews.fr/profile/Cyril585
END:VEVENT
END:VCALENDAR
