BEGIN:VCALENDAR
PRODID:NingEventWidget-v1
VERSION:2.0
METHOD:PUBLISH
BEGIN:VTIMEZONE
TZID:Europe/Paris
X-LIC-LOCATION:Europe/Paris
BEGIN:DAYLIGHT
TZOFFSETFROM:+0100
TZOFFSETTO:+0200
TZNAME:CEST
DTSTART:19700329T020000
RRULE:FREQ=YEARLY;BYMONTH=3;BYDAY=-1SU
END:DAYLIGHT
BEGIN:STANDARD
TZOFFSETFROM:+0200
TZOFFSETTO:+0100
TZNAME:CET
DTSTART:19701025T030000
RRULE:FREQ=YEARLY;BYMONTH=10;BYDAY=-1SU
END:STANDARD
END:VTIMEZONE
BEGIN:VEVENT
UID:2485226:Event:255392
DTSTAMP:20260423T013557Z
SUMMARY:Atelier d'Eveil sur Toulouse :La Dynamique de l' Amour
DESCRIPTION:Â \nÂ Â Â Â Â Â Â Â Â Â Â Â Â Â Â Â Â Â Â Â Â Â Â Â Â Â Â 
 Â Â Â Â Ã  TOULOUSEÂ Â Â Â Â Â Â  Hotel campanile LABEGE innopoleÂ Â Â
  Â Â Â  Atelier d'Ã©veil \"La Dynamique de l' Amour\"Â Â Â Â Â \nÂ Â Â
  Â Â Â Â Â De l'amour terrestre Ã  l'Amour Divin\nparcourons la gamme 
 de la vibration Amour.\nÂ Â Â Â  IL faut vibrer maintenant...nous avan
 Ã§ons !Â Â \nÂ Â Â Â Â  le SamediÂ 4 juin Â 2011 de 9h30 Ã  18h30Â Â Â
  Â Â Â Â Â Â Â Â Â Â Â Â Â Â Â Â Â Â Â Â Â Â Â Â Â Â Â Â Â Â Â Â  60â‚
 ¬ Â restauration sur place ou prÃ©voir son panier repasÂ Â Â Â Â Â  co
 ntact pour infos programme et inscriptionsÂ Â Â Â Â Â Â Â Â Â Â Â Â  0
 6 07 76 14 95 danielle.rovira@orange.frÂ Â Â Â Â Â Â Â Â Â Â Â Â Â Â Â
  Â Â Â Â Â  www.espacenellybl.com\n\nPour plus d'information, aller su
 r https://epanews.fr/events/atelier-deveil-sur-toulouse-la
DTSTART;TZID=Europe/Paris:20110604T000000
DTEND;TZID=Europe/Paris:20110604T235900
CATEGORIES:31
LOCATION:TOULOUSE
WEBSITE:
URL:
CONTACT:06 07 76 14 95
ORGANIZER:daniele et nelly
ATTACH;FMTTYPE="image/jpeg":http://storage.ning.com/topology/rest/1.0/
 file/get/1662409794?profile=original
ATTENDEE;ROLE=REQ-PARTICIPANT;PARTSTAT=ACCEPTED;RSVP=TRUE;CN=nelly:htt
 ps://epanews.fr/profile/espacenellybl
END:VEVENT
END:VCALENDAR
