BEGIN:VCALENDAR
PRODID:NingEventWidget-v1
VERSION:2.0
METHOD:PUBLISH
BEGIN:VTIMEZONE
TZID:Europe/Paris
X-LIC-LOCATION:Europe/Paris
BEGIN:DAYLIGHT
TZOFFSETFROM:+0100
TZOFFSETTO:+0200
TZNAME:CEST
DTSTART:19700329T020000
RRULE:FREQ=YEARLY;BYMONTH=3;BYDAY=-1SU
END:DAYLIGHT
BEGIN:STANDARD
TZOFFSETFROM:+0200
TZOFFSETTO:+0100
TZNAME:CET
DTSTART:19701025T030000
RRULE:FREQ=YEARLY;BYMONTH=10;BYDAY=-1SU
END:STANDARD
END:VTIMEZONE
BEGIN:VEVENT
UID:2485226:Event:2179986
DTSTAMP:20260422T005312Z
SUMMARY:Atelier dessin intuitif Ã  Paris
DESCRIPTION:Dessiner avec le souffle par les corps, les couleurs et le
 s crayons...Â Rencontre avec soi : fluiditÃ©, aisance, confiance etÂ s
 implicitÃ©...Â ExpÃ©rimentations papier,Â structure, poids, dimension,
  volume...Â Â  Les traces visibles s'inscrivant et les traces dÃ©ployÃ
 ©es dans l'espace sont intimement liÃ©es et reliÃ©es.  Cet atelier est
  proposÃ© dans la continuitÃ© du cours de Yoga de Sandrine Desbordes q
 ui se dÃ©roulera en matinÃ©e. Il est ouvert Ã  tous : adulte, enfant, 
 adolescent.Â \n\nPour plus d'information, aller sur https://epanews.fr
 /events/atelier-dessin-intuitif-paris
DTSTART;TZID=Europe/Paris:20150412T140000
DTEND;TZID=Europe/Paris:20150412T170000
CATEGORIES:75
LOCATION:Paris
WEBSITE:http://www.marcheetdessine.com
URL:http://www.marcheetdessine.com
CONTACT:
ORGANIZER:Laurence Medori
ATTACH;FMTTYPE="image/jpeg":http://storage.ning.com/topology/rest/1.0/
 file/get/1663299162?profile=original
ATTENDEE;ROLE=REQ-PARTICIPANT;PARTSTAT=ACCEPTED;RSVP=TRUE;CN="Laurence
  Medori":https://epanews.fr/profile/LM174
END:VEVENT
END:VCALENDAR
