BEGIN:VCALENDAR
PRODID:NingEventWidget-v1
VERSION:2.0
METHOD:PUBLISH
BEGIN:VTIMEZONE
TZID:Europe/Paris
X-LIC-LOCATION:Europe/Paris
BEGIN:DAYLIGHT
TZOFFSETFROM:+0100
TZOFFSETTO:+0200
TZNAME:CEST
DTSTART:19700329T020000
RRULE:FREQ=YEARLY;BYMONTH=3;BYDAY=-1SU
END:DAYLIGHT
BEGIN:STANDARD
TZOFFSETFROM:+0200
TZOFFSETTO:+0100
TZNAME:CET
DTSTART:19701025T030000
RRULE:FREQ=YEARLY;BYMONTH=10;BYDAY=-1SU
END:STANDARD
END:VTIMEZONE
BEGIN:VEVENT
UID:2485226:Event:2657449
DTSTAMP:20260421T225045Z
SUMMARY:atelier decryptage des maux de corps
DESCRIPTION:Atelier DÃ©cryptage des maux du corps par Colette Salvanez
  -Â \nle lundi 13 juin 2016 de 14h00 Ã  18h00Â \nJe vous propose un ap
 rÃ¨s midi de rÃ©flexions sur vos maux ou vos mots Comment en magnÃ©tis
 me soulager par la comprÃ©hension des\"maux\"\nTarifs : 25â‚¬ non adhÃ
 ©rent - 20â‚¬ adhÃ©rent\nInscriptions : NadÃ¨ge 06.23.01.35.96 ou larc
 encieldupartage@sfr.fr\nL'arc en ciel du partage\n1 rue garanciÃ¨re 11
 100 narbonne\nwww.larcenceldupartage.org\n\nPour plus d'information, a
 ller sur https://epanews.fr/events/atelier-decryptage-des-maux-de-corp
 s
DTSTART;TZID=Europe/Paris:20160613T140000
DTEND;TZID=Europe/Paris:20160613T180000
CATEGORIES:11
LOCATION:narbonne
WEBSITE:http://www.larcencieldupartage.org
URL:http://www.larcencieldupartage.org
CONTACT:0623013596
ORGANIZER;CN="L'arc en ciel du partage":https://epanews.fr/profile/Lar
 cencieldupartage
ATTACH;FMTTYPE="image/jpeg":http://storage.ning.com/topology/rest/1.0/
 file/get/1663572093?profile=original
ATTENDEE;ROLE=REQ-PARTICIPANT;PARTSTAT=ACCEPTED;RSVP=TRUE;CN="L'arc en
  ciel du partage":https://epanews.fr/profile/Larcencieldupartage
END:VEVENT
END:VCALENDAR
