BEGIN:VCALENDAR
PRODID:NingEventWidget-v1
VERSION:2.0
METHOD:PUBLISH
BEGIN:VTIMEZONE
TZID:Europe/Paris
X-LIC-LOCATION:Europe/Paris
BEGIN:DAYLIGHT
TZOFFSETFROM:+0100
TZOFFSETTO:+0200
TZNAME:CEST
DTSTART:19700329T020000
RRULE:FREQ=YEARLY;BYMONTH=3;BYDAY=-1SU
END:DAYLIGHT
BEGIN:STANDARD
TZOFFSETFROM:+0200
TZOFFSETTO:+0100
TZNAME:CET
DTSTART:19701025T030000
RRULE:FREQ=YEARLY;BYMONTH=10;BYDAY=-1SU
END:STANDARD
END:VTIMEZONE
BEGIN:VEVENT
UID:2485226:Event:171198
DTSTAMP:20260421T210612Z
SUMMARY:Atelier d'écriture sensible 
DESCRIPTION:A la rencontre de soi par l'écriture...\n\nLes parfums de
  la vie, parfums de l'hiver, parfum de soi !\n\nPour fêter cette fin 
 d'année ensemble, je vous propose l'intimité des étoffes et des cou
 ssins du salon de Thé Zandoli, un endroit qui ravit les yeux par ses 
 couleurs :\nvenez jouer avec les mots, avec votre langage, vos sensati
 ons, vos sentiments et vos pensées. Venez tourner votre regards à l'
 intérieur et aussi vous enrichir de celui des autres.\n\nL'atelier d'
 écriture est un espace intime, un espace de transformation et de cons
 truction, de jeux et de découverte où d'autre rapports que la compé
 tition et la comparaison sont possibles pour créer du nouveau.\n\nIl 
 s'agit ici de plonger dans le processus créateur, de libérer votre l
 angage des chemins balisés et d'explorer votre créativité vers plus
  de liberté.\n\nL'espace d'une soirée, nous pourrons nous poser, fai
 re un cadre pour nous rapprocher du coeur de notre vie, et percevoir s
 a beauté.\n\nÊtre engagé ensemble dans ce processus nous anime, nou
 s apporte de l'enthousiasme et de la vitalité.\n\nQue votre plume soi
 t parfumée, torréfiée, mentholée, fleurie, amère, douce ou piquan
 te, je serai ravie de nous rencontrer autour d'un thé et de jouer ave
 c les mots !\n\nBoisson chaudes et dégustation d'hiver surprise offer
 tes.\n\nTarifs\nAtelier : ................................12 euros\nFo
 rfait 3 ateliers : ....................34 euros\n\nBien à vous et au 
 plaisir d'écrire ensemble !\n\nRenseignements\nIsabelle Legeai\nAssoc
 iation Le Corps en poésie\nlecorpsenpoesie@gmail.com\n\nInscription a
 u 04 34 40 71 93\n\nPour plus d'information, aller sur https://epanews
 .fr/events/atelier-decriture-sensible-2
DTSTART;TZID=Europe/Paris:20101211T180000
DTEND;TZID=Europe/Paris:20101211T210000
CATEGORIES:34
LOCATION:Montpellier
WEBSITE:
URL:
CONTACT:0981936301 / 06 62 40 39 23
ORGANIZER;CN="Isabelle Legeai":https://epanews.fr/profile/IsabelleLege
 ai
ATTACH;FMTTYPE="image/jpeg":
ATTENDEE;ROLE=REQ-PARTICIPANT;PARTSTAT=ACCEPTED;RSVP=TRUE;CN="Isabelle
  Legeai":https://epanews.fr/profile/IsabelleLegeai
END:VEVENT
END:VCALENDAR
