BEGIN:VCALENDAR
PRODID:NingEventWidget-v1
VERSION:2.0
METHOD:PUBLISH
BEGIN:VTIMEZONE
TZID:Europe/Paris
X-LIC-LOCATION:Europe/Paris
BEGIN:DAYLIGHT
TZOFFSETFROM:+0100
TZOFFSETTO:+0200
TZNAME:CEST
DTSTART:19700329T020000
RRULE:FREQ=YEARLY;BYMONTH=3;BYDAY=-1SU
END:DAYLIGHT
BEGIN:STANDARD
TZOFFSETFROM:+0200
TZOFFSETTO:+0100
TZNAME:CET
DTSTART:19701025T030000
RRULE:FREQ=YEARLY;BYMONTH=10;BYDAY=-1SU
END:STANDARD
END:VTIMEZONE
BEGIN:VEVENT
UID:2485226:Event:1967263
DTSTAMP:20260421T080117Z
SUMMARY:Atelier: DÃ©couvrir son Enfant IntÃ©rieur
DESCRIPTION:Nous avons tous besoin, Ã  des degrÃ©s diffÃ©rents, de rep
 rendre contact avec notre Enfant intÃ©rieur, car peu dâ€™entre nous on
 t eu des enfances parfaites, sans conflits, sans blessuresâ€¦SitÃ´t qu
 â€™un individu a apprivoisÃ© et nourri spirituellement son Enfant intÃ
 ©rieur blessÃ©, lâ€™Ã©nergie crÃ©atrice de son merveilleux Enfant natu
 rel commence Ã  Ã©merger. Une fois intÃ©grÃ©, lâ€™Enfant intÃ©rieur de
 vient la source dâ€™une rÃ©gÃ©nÃ©ration salutaire et dâ€™une vitalitÃ©
  nouvelle.\nTarifsÂ : 30â‚¬ Ã  Agde\nhttp://magnetisme34.canalblog.com
 /\n\nPour plus d'information, aller sur https://epanews.fr/events/atel
 ier-decouvrir-son-enfant-interieur
DTSTART;TZID=Europe/Paris:20140726T093000
DTEND;TZID=Europe/Paris:20140726T120000
CATEGORIES:34
LOCATION:LE GRAU D'AGDE
WEBSITE:http://magnetisme34.canalblog.com/archives/2013/01/30/28639648
 .html
URL:http://magnetisme34.canalblog.com/archives/2013/01/30/28639648.htm
 l
CONTACT:0621514073
ORGANIZER;CN="Nathalie Arboux-EnergÃ©ticienne":https://epanews.fr/prof
 ile/ARBOUXNathalie
ATTACH;FMTTYPE="image/jpeg":http://storage.ning.com/topology/rest/1.0/
 file/get/1663169456?profile=original
ATTENDEE;ROLE=REQ-PARTICIPANT;PARTSTAT=ACCEPTED;RSVP=TRUE;CN="Nathalie
  Arboux-EnergÃ©ticienne":https://epanews.fr/profile/ARBOUXNathalie
END:VEVENT
END:VCALENDAR
