BEGIN:VCALENDAR
PRODID:NingEventWidget-v1
VERSION:2.0
METHOD:PUBLISH
BEGIN:VTIMEZONE
TZID:Europe/Paris
X-LIC-LOCATION:Europe/Paris
BEGIN:DAYLIGHT
TZOFFSETFROM:+0100
TZOFFSETTO:+0200
TZNAME:CEST
DTSTART:19700329T020000
RRULE:FREQ=YEARLY;BYMONTH=3;BYDAY=-1SU
END:DAYLIGHT
BEGIN:STANDARD
TZOFFSETFROM:+0200
TZOFFSETTO:+0100
TZNAME:CET
DTSTART:19701025T030000
RRULE:FREQ=YEARLY;BYMONTH=10;BYDAY=-1SU
END:STANDARD
END:VTIMEZONE
BEGIN:VEVENT
UID:2485226:Event:174324
DTSTAMP:20260424T114355Z
SUMMARY:Atelier \" Découvrir le Massage Relationnel \"
DESCRIPTION:Rencontrer l'autre (et soi-même) par le Toucher vrai!\nDi
 fférent de l'Atelier Massage du DOS précédent, celui-ci nous transp
 orte dans l'univers du Massage Bien-être global et de la Relaxation C
 oréenne.\n \nSamedi 15 janvier 2011\n14h30 – 17h00\nTOULON\n \nAp
 rès-midi ludique et relaxante en perspective!!\nUn rafraichissement c
 lôturera cet atelier.\n \nATELIER OUVERT A TOUS !\n(Massage Bien-Et
 re non thérapeutique)\n \nPrévoir :\n- une tenue non synthétique e
 t souple\n- des chaussures souples ou chaussettes\n- une grande servie
 tte de plage\nL'activité se déroule habillé, en partie debout, en p
 artie au sol sur des tapis de gym et sur table.\n \nLieu :  Foyer de
  la Jeunesse,  Place d’Armes,  Toulon\nParticipation aux frais : 1
 0€/pers\nInscription – réservation :\n06 12 21 03 62 - 04 94 80 8
 9 71 - plessisdaniel@free.fr\nFORM’ACTION – www.ecoledemassage.fr\
 n\nPour plus d'information, aller sur https://epanews.fr/events/atelie
 r-decouvrir-le-massage
DTSTART;TZID=Europe/Paris:20110115T143000
DTEND;TZID=Europe/Paris:20110115T170000
CATEGORIES:83, 13
LOCATION:TOULON
WEBSITE:
URL:
CONTACT:06 12 21 03 62 - 04 94 80 89 71
ORGANIZER;CN="Daniel Plessis":https://epanews.fr/profile/DanielPlessis
ATTACH;FMTTYPE="image/jpeg":http://storage.ning.com/topology/rest/1.0/
 file/get/1662371987?profile=original
ATTENDEE;ROLE=REQ-PARTICIPANT;PARTSTAT=ACCEPTED;RSVP=TRUE;CN=florence:
 https://epanews.fr/profile/DUBROCHE
ATTENDEE;ROLE=REQ-PARTICIPANT;PARTSTAT=ACCEPTED;RSVP=TRUE;CN="Daniel P
 lessis":https://epanews.fr/profile/DanielPlessis
ATTENDEE;ROLE=REQ-PARTICIPANT;PARTSTAT=ACCEPTED;RSVP=TRUE;CN="DE BURGO
  Clara":https://epanews.fr/profile/DEBURGOClara
ATTENDEE;ROLE=REQ-PARTICIPANT;PARTSTAT=TENTATIVE;RSVP=TRUE;CN=Namaste0
 5:https://epanews.fr/profile/PATYAVINIO
END:VEVENT
END:VCALENDAR
