BEGIN:VCALENDAR
PRODID:NingEventWidget-v1
VERSION:2.0
METHOD:PUBLISH
BEGIN:VTIMEZONE
TZID:Europe/Paris
X-LIC-LOCATION:Europe/Paris
BEGIN:DAYLIGHT
TZOFFSETFROM:+0100
TZOFFSETTO:+0200
TZNAME:CEST
DTSTART:19700329T020000
RRULE:FREQ=YEARLY;BYMONTH=3;BYDAY=-1SU
END:DAYLIGHT
BEGIN:STANDARD
TZOFFSETFROM:+0200
TZOFFSETTO:+0100
TZNAME:CET
DTSTART:19701025T030000
RRULE:FREQ=YEARLY;BYMONTH=10;BYDAY=-1SU
END:STANDARD
END:VTIMEZONE
BEGIN:VEVENT
UID:2485226:Event:181626
DTSTAMP:20260423T194000Z
SUMMARY:Atelier découverte Relaxation et Massage* des pieds
DESCRIPTION:Nous proposons un atelier Relaxation et Massage* autour de
 s pieds le 2O mars prochain.Ce sera le jour du printemps ! Profitons d
 e cette promesse de beaux jours pour prendre soin de nous-même, allé
 ger nos pieds et nous ressourcer...\n \nAu-delà d'une technique, nou
 s invitons à prendre du temps pour se détendre en apprenant, dans un
  climat de confiance et de respect.\nAvec une méthode simple de relax
 ation, des respirations et exercices d'éveil corporel, nous expérime
 nterons des outils ludiques faciles à utiliser au quotidien.\nLa prat
 ique guidée d'un massage* des pieds aidera à acquérir les gestes es
 sentiels et à se mettre à l'écoute des ressentis, en donnant et en 
 recevant à son tour.\n\n\nLes intervenantes :\nAnne Léger-Lefebvre, 
 praticienne en massage-bien-être* et thérapeute psychocorporelle, fo
 rmée à l’accompagnement pédagogique de groupe.\nCertifiée Eléme
 nterre-formations, membre de la Fédération française de Somatopsych
 othérapie (FF2S) et de la Fédération Française de Massage-Bien-Etr
 e.\n \net :\nValérie Kurtzmann, sophrologue et praticienne en massag
 e-bien-être*\nCertifiée et membre de la Fédération Française de s
 ophrologie, certifiée de l’Ecole Form’action, membre de la Fédé
 ration Française de Massage-Bien-Etre.\n \nDimanche 20 mars 2011 à 
 Aix-en-Provence\nDe 9h à 13h / groupe jusqu’à 12 personnes.\nParki
 ng et accès facile.\nModalités (plan d’accès, matériel…) préc
 isées lors de l’inscription.\nParticipation aux frais : 40€\nCont
 act : Anne Léger-Lefebvre au 06 84 08 76 61\nou par mail : leger.lefe
 bvre@orange.fr\n \n*massage non médical\n\n\nPour plus d'information
 , aller sur https://epanews.fr/events/atelier-decouverte-relaxation
DTSTART;TZID=Europe/Paris:20110320T090000
DTEND;TZID=Europe/Paris:20110320T130000
CATEGORIES:13
LOCATION:Aix-en-Provence
WEBSITE:
URL:
CONTACT:06 84 08 76 61
ORGANIZER;CN="Anne Léger-Lefebvre":https://epanews.fr/profile/AnneLeg
 erLefebvre
ATTACH;FMTTYPE="image/jpeg":http://storage.ning.com/topology/rest/1.0/
 file/get/1662373779?profile=original
ATTENDEE;ROLE=REQ-PARTICIPANT;PARTSTAT=ACCEPTED;RSVP=TRUE;CN="Anne Lé
 ger-Lefebvre":https://epanews.fr/profile/AnneLegerLefebvre
END:VEVENT
END:VCALENDAR
