BEGIN:VCALENDAR
PRODID:NingEventWidget-v1
VERSION:2.0
METHOD:PUBLISH
BEGIN:VTIMEZONE
TZID:Europe/Paris
X-LIC-LOCATION:Europe/Paris
BEGIN:DAYLIGHT
TZOFFSETFROM:+0100
TZOFFSETTO:+0200
TZNAME:CEST
DTSTART:19700329T020000
RRULE:FREQ=YEARLY;BYMONTH=3;BYDAY=-1SU
END:DAYLIGHT
BEGIN:STANDARD
TZOFFSETFROM:+0200
TZOFFSETTO:+0100
TZNAME:CET
DTSTART:19701025T030000
RRULE:FREQ=YEARLY;BYMONTH=10;BYDAY=-1SU
END:STANDARD
END:VTIMEZONE
BEGIN:VEVENT
UID:2485226:Event:163929
DTSTAMP:20260423T045147Z
SUMMARY:Atelier Découverte du Massage du DOS à Toulon
DESCRIPTION:Professionnel du Massage Bien-Etre, j’ai envie de vous f
 aire partager quelques techniques simples de massage du dos.\nAprès u
 ne journée de travail, trop d’efforts ou une grosse fatigue… soul
 agez vos tensions dorsales à la maison ( ou au bureau ! ) assis sur d
 es chaises ordinaires !\n\nCet Atelier, ludique et convivial, vous app
 ortera un véritable ressenti de détente et de bien-être et vous off
 rira des outils pratiques pour masser le dos habillé puis à l'huile 
 chez vous !\n\nInscription par tel ou par mail :\n06 12 21 03 62 - 04 
 94 80 89 71 - plessisdaniel@free.fr\nParticipation aux frais 10€/per
 s\n\nPrévoir :\n- 1 grande serviette de plage + 1 petite\n- 1 coussin
  (min 40x40)\n- une tenue non synthétique et souple\n- des chaussures
  souples ou chaussettes\n- un peu d'huile de massage\n\nPour plus d'in
 formation, aller sur https://epanews.fr/events/atelier-decouverte-du-m
 assage
DTSTART;TZID=Europe/Paris:20101218T143000
DTEND;TZID=Europe/Paris:20101218T170000
CATEGORIES:83
LOCATION:TOULON
WEBSITE:http://www.kinesio-massage-83.fr
URL:http://www.kinesio-massage-83.fr
CONTACT:0612210362
ORGANIZER;CN="Daniel Plessis":https://epanews.fr/profile/DanielPlessis
ATTACH;FMTTYPE="image/jpeg":http://storage.ning.com/topology/rest/1.0/
 file/get/1662364072?profile=original
ATTENDEE;ROLE=REQ-PARTICIPANT;PARTSTAT=ACCEPTED;RSVP=TRUE;CN=18cathy:h
 ttps://epanews.fr/profile/18cathy
ATTENDEE;ROLE=REQ-PARTICIPANT;PARTSTAT=ACCEPTED;RSVP=TRUE;CN=Marie:htt
 ps://epanews.fr/profile/Marie830
ATTENDEE;ROLE=REQ-PARTICIPANT;PARTSTAT=ACCEPTED;RSVP=TRUE;CN="Lydie od
 érigo":https://epanews.fr/profile/Lydieoderigo
ATTENDEE;ROLE=REQ-PARTICIPANT;PARTSTAT=ACCEPTED;RSVP=TRUE;CN=joy83:htt
 ps://epanews.fr/profile/joy83
ATTENDEE;ROLE=REQ-PARTICIPANT;PARTSTAT=ACCEPTED;RSVP=TRUE;CN="Daniel P
 lessis":https://epanews.fr/profile/DanielPlessis
ATTENDEE;ROLE=REQ-PARTICIPANT;PARTSTAT=TENTATIVE;RSVP=TRUE;CN="Brigitt
 e  énergie harmonieuse":https://epanews.fr/profile/Brigitteenergiehar
 monieuse
END:VEVENT
END:VCALENDAR
