BEGIN:VCALENDAR
PRODID:NingEventWidget-v1
VERSION:2.0
METHOD:PUBLISH
BEGIN:VTIMEZONE
TZID:Europe/Paris
X-LIC-LOCATION:Europe/Paris
BEGIN:DAYLIGHT
TZOFFSETFROM:+0100
TZOFFSETTO:+0200
TZNAME:CEST
DTSTART:19700329T020000
RRULE:FREQ=YEARLY;BYMONTH=3;BYDAY=-1SU
END:DAYLIGHT
BEGIN:STANDARD
TZOFFSETFROM:+0200
TZOFFSETTO:+0100
TZNAME:CET
DTSTART:19701025T030000
RRULE:FREQ=YEARLY;BYMONTH=10;BYDAY=-1SU
END:STANDARD
END:VTIMEZONE
BEGIN:VEVENT
UID:2485226:Event:2921534
DTSTAMP:20260422T073003Z
SUMMARY:Atelier de Yoga Sonorre
DESCRIPTION:On démarre l'année d'un bon pied en y mettant tout son c
 oeur.Un atelier, à découvrir ou redécouvrir, pour en même temps no
 us ancrer et profiter du nouvel élan de la nouvelle année, toujours 
 avec la pratique le souffle, le son et la méditation.Tarifs :Sans adh
 ésion : 30€Avec adhésion (20€) : 25€​Renseignements :Au mili
 eu... le monde : aumilieu.lemonde@yahoo.comou tél. 06 50 94 72 94\n\n
 Pour plus d'information, aller sur https://epanews.fr/events/atelier-d
 e-yoga-sonorre
DTSTART;TZID=Europe/Paris:20180114T140000
DTEND;TZID=Europe/Paris:20180114T160000
CATEGORIES:75011
LOCATION:Om Sweet Om
WEBSITE:https://mariearconte.wixsite.com/vibrationsdelumiere
URL:https://mariearconte.wixsite.com/vibrationsdelumiere
CONTACT:0650947294
ORGANIZER:Marie Christine Arconte
ATTACH;FMTTYPE="image/jpeg":http://storage.ning.com/topology/rest/1.0/
 file/get/1663712541?profile=original
ATTENDEE;ROLE=REQ-PARTICIPANT;PARTSTAT=ACCEPTED;RSVP=TRUE;CN="Marie So
 iBena Arconte":https://epanews.fr/profile/MarieSoiBenaArconte
END:VEVENT
END:VCALENDAR
