BEGIN:VCALENDAR
PRODID:NingEventWidget-v1
VERSION:2.0
METHOD:PUBLISH
BEGIN:VTIMEZONE
TZID:Europe/Paris
X-LIC-LOCATION:Europe/Paris
BEGIN:DAYLIGHT
TZOFFSETFROM:+0100
TZOFFSETTO:+0200
TZNAME:CEST
DTSTART:19700329T020000
RRULE:FREQ=YEARLY;BYMONTH=3;BYDAY=-1SU
END:DAYLIGHT
BEGIN:STANDARD
TZOFFSETFROM:+0200
TZOFFSETTO:+0100
TZNAME:CET
DTSTART:19701025T030000
RRULE:FREQ=YEARLY;BYMONTH=10;BYDAY=-1SU
END:STANDARD
END:VTIMEZONE
BEGIN:VEVENT
UID:2485226:Event:2615263
DTSTAMP:20260421T122128Z
SUMMARY:Atelier de Tango Argentin à La Seyne/mer 83500
DESCRIPTION:                                Atelier d
 e TANGO ARGENTIN\n                          
        Le Mercredi à LA SEYNE/mer\nDe 19h 15 à 20h 15     
 GRATUIT\nDe 20h 15 à 21h 15      PAF:  10€\nTous les 15 jours
 . Ouvert à tous niveaux .\nCalendrier tous les 15 jours ,\nProchain :
  15, 29 Juin\nUne approche relationnelle et sensitive, accessible à t
 ous.\nToutes les infos sur :\nhttp://lecorpsdutango.blog4ever.com\nCon
 tact : 06 1977 8327\n\nPour plus d'information, aller sur https://epan
 ews.fr/events/atelier-de-tango-argentin-la-seyne-mer-83500-4
DTSTART;TZID=Europe/Paris:20160601T191500
DTEND;TZID=Europe/Paris:20160601T211500
CATEGORIES:83
LOCATION:La Seyne/mer
WEBSITE:http://lecorpsdutango.blog4ever.com
URL:http://lecorpsdutango.blog4ever.com
CONTACT:0619778327
ORGANIZER;CN="Anne-Marie PAILLARD":https://epanews.fr/profile/AnneMari
 ePAILLARD
ATTACH;FMTTYPE="image/jpeg":http://storage.ning.com/topology/rest/1.0/
 file/get/1663549313?profile=original
ATTENDEE;ROLE=REQ-PARTICIPANT;PARTSTAT=ACCEPTED;RSVP=TRUE;CN="Anne-Mar
 ie PAILLARD":https://epanews.fr/profile/AnneMariePAILLARD
END:VEVENT
END:VCALENDAR
