BEGIN:VCALENDAR
PRODID:NingEventWidget-v1
VERSION:2.0
METHOD:PUBLISH
BEGIN:VTIMEZONE
TZID:Europe/Paris
X-LIC-LOCATION:Europe/Paris
BEGIN:DAYLIGHT
TZOFFSETFROM:+0100
TZOFFSETTO:+0200
TZNAME:CEST
DTSTART:19700329T020000
RRULE:FREQ=YEARLY;BYMONTH=3;BYDAY=-1SU
END:DAYLIGHT
BEGIN:STANDARD
TZOFFSETFROM:+0200
TZOFFSETTO:+0100
TZNAME:CET
DTSTART:19701025T030000
RRULE:FREQ=YEARLY;BYMONTH=10;BYDAY=-1SU
END:STANDARD
END:VTIMEZONE
BEGIN:VEVENT
UID:2485226:Event:2481908
DTSTAMP:20260421T224115Z
SUMMARY:Atelier de sunfas Danse avec la prĂ©sence de Marion Zammarchi
DESCRIPTION:Cet atelier permet de mettre en mouvement les 3 premiers Ă
 §akras, ainsi que les 3 premiers Ă©lĂ©ments: terre, eau & feu en alter
 nant les mouvements d'ancrage, le lĂ˘chĂ© prise (par mouvements rĂ©pĂ©
 titifs issus des rituels de transe,), la transmutation des Ă©motions d
 ans le feu du ventre (pranayama- travail sur le souffle), la perceptio
 n de l'Ă©nergie comme moteur de chacun de nos mouvements (par oppositi
 on Ă  un mouvement musculaire en force) . Bref, l'Ă©veil Ă  une autre 
 perception de notre corps et du rĂ©el pour cultiver la joie d'ĂŞtre & 
 la crĂ©ativitĂ© (danse libre & danse crĂ©ative)  Un voyage Ă  la renco
 ntre de soi, de l'autre & de tout ce qui vi(bre) autours de nous   A p
 ropos de Sunfas:  De tous temps, les danses ont eu un rĂ´le dâ€™exutoi
 re des tensions accumulĂ©es au sein de la vie en sociĂ©tĂ© ou ont serv
 i Ă  se connecter avec le sacrĂ© et le mystĂ¨re de la vie.  Dans lâ€™o
 ccident actuel, le rapport au monde et Ă  soi se situe dans le haut du
  corps. LittĂ©ralement, on Â« marche sur la tĂŞte Â»: le cerveau et la
  raison analytique servent dâ€™unique outil pour la comprĂ©hension de 
 soi et du monde.  Or, il y a des choses que le corps (et par extension
 , lâ€™intuition, lâ€™instinctâ€¦) sait faire et que le cerveau et son 
 cortĂ¨ge de pensĂ©es, ne savent pas faire: sâ€™ancrer dans le moment p
 rĂ©sent, ĂŞtre Ă  lâ€™Ă©coute de ce qui nous entoure, se relier aux au
 tres et Ă  soi, lĂ˘cher prise, avoir de lâ€™intuition, crĂ©erâ€¦  [Sun
 fas danse]: littĂ©ralement la danse du souffle est un concept qui mari
 e les danses traditionnelles du bassin mĂ©diterranĂ©en, plus prĂ©cisĂ©
 ment les danses de transes et les danses sacrĂ©es, le yoga des natha y
 ogis et lâ€™eutonie\nImayane, professeur de danse et chorĂ©graphe, Mar
 ion Zammarchi, chanteuse et musicienne s'associent pour un pur moment 
 de bonheur..  Plein tarif: 40â‚¬ Tarif rĂ©duit: 30 E + d'infos: Imayan
 e-dansesorientales.fr\n\nPour plus d'information, aller sur https://ep
 anews.fr/events/atelier-de-sunfas-danse-avec-marion-zammarchi
DTSTART;TZID=Europe/Paris:20151115T120000
DTEND;TZID=Europe/Paris:20151115T150000
CATEGORIES:69
LOCATION:Centre culturel Artesya
WEBSITE:
URL:
CONTACT:
ORGANIZER;CN=chatmallow:https://epanews.fr/profile/chatmallow
ATTACH;FMTTYPE="image/jpeg":
ATTENDEE;ROLE=REQ-PARTICIPANT;PARTSTAT=ACCEPTED;RSVP=TRUE;CN=chatmallo
 w:https://epanews.fr/profile/chatmallow
END:VEVENT
END:VCALENDAR
