BEGIN:VCALENDAR
PRODID:NingEventWidget-v1
VERSION:2.0
METHOD:PUBLISH
BEGIN:VTIMEZONE
TZID:Europe/Paris
X-LIC-LOCATION:Europe/Paris
BEGIN:DAYLIGHT
TZOFFSETFROM:+0100
TZOFFSETTO:+0200
TZNAME:CEST
DTSTART:19700329T020000
RRULE:FREQ=YEARLY;BYMONTH=3;BYDAY=-1SU
END:DAYLIGHT
BEGIN:STANDARD
TZOFFSETFROM:+0200
TZOFFSETTO:+0100
TZNAME:CET
DTSTART:19701025T030000
RRULE:FREQ=YEARLY;BYMONTH=10;BYDAY=-1SU
END:STANDARD
END:VTIMEZONE
BEGIN:VEVENT
UID:2485226:Event:1957780
DTSTAMP:20260423T120423Z
SUMMARY:Atelier de Soins Quantiques
DESCRIPTION:Ateliers de Soins QuantiquesÂ Voulez-vous dÃ©couvrir une p
 ratique quantique de transformation ?Â Venez vivre un atelier renversa
 nt pour Ã©voluer, voir se rÃ©aliser plus vite vos projets, vos dÃ©sirs
  et dÃ©passer vos blocages.Â Â Qu'est-ce qu'un Soin Quantique de la MÃ
 ©thode des 2 Points ?Â Nous sommes tous co-crÃ©ateurs de ce que nous a
 vons l'habitude de nommer \"la rÃ©alitÃ©\".Imaginez quâ€™en ouvrant un
 e simple porte vous puissiez vous relier au Champ de tous les possible
 s, puiser dans les ressources infinies qui sont Ã  votre disposition a
 fin de les utiliser dans votre vie quotidienne, transformer les blocag
 es et difficultÃ©s que vous rencontrez. Autrement-dit crÃ©er une nouve
 lle rÃ©alitÃ© dans votre vie.Â Cette porte existe vÃ©ritablement, mais
  la plupart du temps, nos propres limitations nous empÃªchent de lâ€™o
 uvrir.Â Dans les Espaces de GuÃ©rison Quantique, nous utilisons la vib
 ration du cÅ“ur, la pure conscience et la porte s'ouvre, en toute simp
 licitÃ©.Â Un soin MÃ©thode des 2 Points est un instrument puissant de 
 transformation et d'Ã©volution qui nous donne lâ€™accÃ¨s direct Ã  ces
  Espaces Quantiques, ce Champ unifiÃ© oÃ¹ toutes nos solutions existen
 t dÃ©jÃ .Â Câ€™est un soutien et un accÃ©lÃ©rateur pour manifester des
  changements dans toutes les dimensions de vieÂ  : couple/relations, s
 antÃ©/bien-Ãªtre, finances, mission de vie/spiritualitÃ©, famille, vie
  professionnelleâ€¦Â Pourquoi participer Ã  un Atelier collectif ?Vous
  allez bÃ©nÃ©ficier de l'Ã©nergie du groupe et de la rÃ©solution des p
 roblÃ©matiques de chaque participant. Nous sommes tous reliÃ©s, chaque
  personne recevant un soin guÃ©rit les autres membres du groupe. Le th
 Ã¨me n'a mÃªme pas besoin d'Ãªtre Ã©noncÃ© pour que le ThÃ©rapeute Å“u
 vre et que chacun en profite. Et vous n'avez mÃªme pas besoin d'y croi
 re ou d'y adhÃ©rer, l'information est transmise au Champ unifiÃ© et ce
 lui-ci agit.Â Comment se dÃ©roule l'Atelier ?Â - Quelques points de re
 pÃ¨re sur les approches quantiques- MÃ©ditation guidÃ©e pour \"ouvrir 
 les portes\"- DÃ©monstration en groupe complet- Soins Ã  chaque person
 ne, en demi-groupe- Identification des applications possibles de la MÃ
 ©thode des 2 PointsÂ Â Trois dates :Â Vendredi 27 juin de 13h30 Ã  16h
  (complet)Samedi 28 juin de 10h30 Ã  13hJeudi 10 juillet de 10h30 Ã  1
 3hNombre de places limitÃ© (12 par atelier).Inscription : accueil@divi
 necouleur.comÂ Au mÃ©tro Mairie de Clichy (adresse envoyÃ©e aprÃ¨s ins
 cription).Participation : 30 â‚¬ par atelierÂ AnimÃ© parÂ  Catherine M
 addens et Sophie Zakowetz Praticiennes en MÃ©thode des Deux Points\n\n
 Pour plus d'information, aller sur https://epanews.fr/events/atelier-d
 e-soins-quantiques-1
DTSTART;TZID=Europe/Paris:20140628T103000
DTEND;TZID=Europe/Paris:20140628T130000
CATEGORIES:92
LOCATION:Clichy
WEBSITE:http://divinecouleur.com/atelier-soins-quantiques/
URL:http://divinecouleur.com/atelier-soins-quantiques/
CONTACT:06 12 68 83 56
ORGANIZER;CN="Divine Couleur":https://epanews.fr/profile/DivineCouleur
ATTACH;FMTTYPE="image/jpeg":
ATTENDEE;ROLE=REQ-PARTICIPANT;PARTSTAT=ACCEPTED;RSVP=TRUE;CN="Divine C
 ouleur":https://epanews.fr/profile/DivineCouleur
END:VEVENT
END:VCALENDAR
