BEGIN:VCALENDAR
PRODID:NingEventWidget-v1
VERSION:2.0
METHOD:PUBLISH
BEGIN:VTIMEZONE
TZID:Europe/Paris
X-LIC-LOCATION:Europe/Paris
BEGIN:DAYLIGHT
TZOFFSETFROM:+0100
TZOFFSETTO:+0200
TZNAME:CEST
DTSTART:19700329T020000
RRULE:FREQ=YEARLY;BYMONTH=3;BYDAY=-1SU
END:DAYLIGHT
BEGIN:STANDARD
TZOFFSETFROM:+0200
TZOFFSETTO:+0100
TZNAME:CET
DTSTART:19701025T030000
RRULE:FREQ=YEARLY;BYMONTH=10;BYDAY=-1SU
END:STANDARD
END:VTIMEZONE
BEGIN:VEVENT
UID:2485226:Event:2920545
DTSTAMP:20260420T175507Z
SUMMARY:Atelier de Sculpture intuitive® 1/2 journée
DESCRIPTION:Vivre un atelier de Sculpture intuitive®...\nC’est lai
 sser venir un visage dans l’argile, en lâchant prise sur le résult
 at. \nC’est accepter de se laisser guider en suivant le mouvement
  créatif qui circule en vous, sans la pensée qui le contrôle.\nConc
 rètement, des indications simples vont vous amener progressivement à
  la réalisation d’un buste expressif et habité, dans un lâcher pr
 ise naturel.\nLa création se fait dans la douceur, vous apportant dé
 tente, bien-être, joie…  La Sculpture intuitive® est une passer
 elle vers Soi... Et le moyen de s'exprimer artistiquement sans apprent
 issage d'une technique.\nCette méthode s’adresse à tous, elle ne
  nécessite ni apprentissage, ni compétences, ni don particuliers.\n
 Prix de l'atelier en 1/2 journée : \n70 € en semaine90 € le week
 -end (terre et outils compris) \nHoraires : de 14h à 18h. \nCréat
 ion d'un visage sans le crâne ni les épaules.L'évidage et la cuiss
 on ne sont pas nécessaires, vous repartez avec votre création.\n\n\n
 \nPour plus d'information, aller sur https://epanews.fr/events/atelier
 -de-sculpture-intuitive-1-2-journ-e
DTSTART;TZID=Europe/Paris:20180119T140000
DTEND;TZID=Europe/Paris:20180119T180000
CATEGORIES:33
LOCATION:LANGON
WEBSITE:http://www.artiste-en-soi.fr
URL:http://www.artiste-en-soi.fr
CONTACT:0665426236
ORGANIZER:
ATTACH;FMTTYPE="image/jpeg":http://storage.ning.com/topology/rest/1.0/
 file/get/1663715085?profile=original
ATTENDEE;ROLE=REQ-PARTICIPANT;PARTSTAT=ACCEPTED;RSVP=TRUE;CN=Lumimu:ht
 tps://epanews.fr/profile/Murielsoleil
END:VEVENT
END:VCALENDAR
