BEGIN:VCALENDAR
PRODID:NingEventWidget-v1
VERSION:2.0
METHOD:PUBLISH
BEGIN:VTIMEZONE
TZID:Europe/Paris
X-LIC-LOCATION:Europe/Paris
BEGIN:DAYLIGHT
TZOFFSETFROM:+0100
TZOFFSETTO:+0200
TZNAME:CEST
DTSTART:19700329T020000
RRULE:FREQ=YEARLY;BYMONTH=3;BYDAY=-1SU
END:DAYLIGHT
BEGIN:STANDARD
TZOFFSETFROM:+0200
TZOFFSETTO:+0100
TZNAME:CET
DTSTART:19701025T030000
RRULE:FREQ=YEARLY;BYMONTH=10;BYDAY=-1SU
END:STANDARD
END:VTIMEZONE
BEGIN:VEVENT
UID:2485226:Event:355735
DTSTAMP:20260420T111506Z
SUMMARY:Atelier de rites de passage \"les trésors du passage\"
DESCRIPTION:Au sein du FESTIVAL des NOUVEAUX MONDES 2011 -Voyage au co
 eur de l'être-\n10heures-\navec ISABELLE BURNIER, médecin et profess
 eur au Canada, formée à la médecine chinoise et à la conscience ce
 llulaire et praticienne de rituels :\nComment revenir d’une épreuve
  et intégrer les trésors découverts lors des phases de changements.
 \n15€/12€ adhérent ou famille.\n\nPour plus d'information, aller 
 sur https://epanews.fr/events/atelier-de-rites-de-passage
DTSTART;TZID=Europe/Paris:20110712T100000
DTEND;TZID=Europe/Paris:20110712T123000
CATEGORIES:tous
LOCATION:CASSIS 13260
WEBSITE:http://www.associationlesnouveauxmondes.com
URL:http://www.associationlesnouveauxmondes.com
CONTACT:C Culturel 04 42 01 77 73/ Asso 06 14 65 04 48
ORGANIZER;CN="Association Les Nouveaux Mondes":https://epanews.fr/prof
 ile/AssociationLesNouveauxMondes
ATTACH;FMTTYPE="image/jpeg":http://storage.ning.com/topology/rest/1.0/
 file/get/1662426254?profile=original
ATTENDEE;ROLE=REQ-PARTICIPANT;PARTSTAT=ACCEPTED;RSVP=TRUE;CN="Associat
 ion Les Nouveaux Mondes":https://epanews.fr/profile/AssociationLesNouv
 eauxMondes
END:VEVENT
END:VCALENDAR
