BEGIN:VCALENDAR
PRODID:NingEventWidget-v1
VERSION:2.0
METHOD:PUBLISH
BEGIN:VTIMEZONE
TZID:Europe/Paris
X-LIC-LOCATION:Europe/Paris
BEGIN:DAYLIGHT
TZOFFSETFROM:+0100
TZOFFSETTO:+0200
TZNAME:CEST
DTSTART:19700329T020000
RRULE:FREQ=YEARLY;BYMONTH=3;BYDAY=-1SU
END:DAYLIGHT
BEGIN:STANDARD
TZOFFSETFROM:+0200
TZOFFSETTO:+0100
TZNAME:CET
DTSTART:19701025T030000
RRULE:FREQ=YEARLY;BYMONTH=10;BYDAY=-1SU
END:STANDARD
END:VTIMEZONE
BEGIN:VEVENT
UID:2485226:Event:2432945
DTSTAMP:20260423T111235Z
SUMMARY:Atelier de ressourcement par la Créativité
DESCRIPTION:Week end de ressourcement par la créativité samedi17 et 
 1dimanche 18 octobre de 10h à 18h. Explorer les différentes facettes
  de sa créativité pour stimuler son énergie, la confiance en soi, d
 ynamiser de nouveaux projets...Inscription avant le 12 octobre!\nMarin
 a lesur\nPsychothérapeute, art thérapeute et artiste peintre\nlesurm
 arina@gmail.com\n\n\nPour plus d'information, aller sur https://epanew
 s.fr/events/atelier-de-ressourcement-par-la-cr-ativit
DTSTART;TZID=Europe/Paris:20151017T220000
DTEND;TZID=Europe/Paris:20151018T220000
CATEGORIES:75020, paris
LOCATION:Paris 75020 métro Avron
WEBSITE:
URL:
CONTACT:
ORGANIZER;CN="Marina Lesur":https://epanews.fr/profile/MarinaLesur641
ATTACH;FMTTYPE="image/jpeg":http://storage.ning.com/topology/rest/1.0/
 file/get/1663457760?profile=original
ATTENDEE;ROLE=REQ-PARTICIPANT;PARTSTAT=ACCEPTED;RSVP=TRUE;CN="Marina L
 esur":https://epanews.fr/profile/MarinaLesur641
END:VEVENT
END:VCALENDAR
