BEGIN:VCALENDAR
PRODID:NingEventWidget-v1
VERSION:2.0
METHOD:PUBLISH
BEGIN:VTIMEZONE
TZID:Europe/Paris
X-LIC-LOCATION:Europe/Paris
BEGIN:DAYLIGHT
TZOFFSETFROM:+0100
TZOFFSETTO:+0200
TZNAME:CEST
DTSTART:19700329T020000
RRULE:FREQ=YEARLY;BYMONTH=3;BYDAY=-1SU
END:DAYLIGHT
BEGIN:STANDARD
TZOFFSETFROM:+0200
TZOFFSETTO:+0100
TZNAME:CET
DTSTART:19701025T030000
RRULE:FREQ=YEARLY;BYMONTH=10;BYDAY=-1SU
END:STANDARD
END:VTIMEZONE
BEGIN:VEVENT
UID:2485226:Event:2630007
DTSTAMP:20260421T151821Z
SUMMARY:Atelier de Rebirth \"A la rencontre de soi-mÃªme\"
DESCRIPTION:Offrez-vous un voyage Ã  la dÃ©couverte de vous-mÃªme Ã  t
 ravers un atelier de Rebirth (respiration en conscience).\n\nEn compag
 nie dâ€™un petit groupe, vous expÃ©rimenterez la puissance transformat
 rice du souffle conscient :\n-Â Â Â Â Â Â  profonde relaxation et effe
 ts positifs sur la santÃ©,\n-Â Â Â Â Â Â  Ã©mergence de la vitalitÃ© e
 t de lâ€™enthousiasme,\n-Â Â Â Â Â Â  conscience de soi (de son corps,
  ses Ã©motions, ses croyances, sa dimension spirituelle),\n-Â Â Â Â Â 
 Â  libÃ©ration des blocages Ã©nergÃ©tiques.\nÂ \nLes bÃ©nÃ©fices du Re
 birth sont multiples. Il permet notamment deÂ :\n-Â Â Â Â Â Â  dissoud
 re dâ€™anciennes structures psychologiques devenues mal adaptÃ©es,\n-Â
  Â Â Â Â Â  guÃ©rir des vÃ©cus traumatiques,\n-Â Â Â Â Â Â  accÃ©der Ã
   lâ€™Ã©vidence de notre authenticitÃ©,\n-Â Â Â Â Â Â  percevoir une d
 imension plus vaste qui nous apporte une sensation de paix intÃ©rieure
  et de libertÃ©.\nÂ \nOuvert Ã  tous, cet atelier est encadrÃ© par une
  thÃ©rapeute experte de lâ€™accompagnement des personnes respirant en 
 conscience. Vous serez guidÃ©(e) dans cette expÃ©rience intÃ©rieure da
 ns un cadre sÃ©curisÃ©.\nÂ \nRenseignements et inscriptionsÂ :\nAnne L
 autier, psycho-praticienne Ã  Boulogne (92)\nwww.anne-lautier.fr\n06 6
 5 05 56 22\n\nPour plus d'information, aller sur https://epanews.fr/ev
 ents/atelier-de-respiration-en-conscience-rebirth
DTSTART;TZID=Europe/Paris:20160611T160000
DTEND;TZID=Europe/Paris:20160611T183000
CATEGORIES:92
LOCATION:Boulogne-Billancourt
WEBSITE:http://www.anne-lautier.fr
URL:http://www.anne-lautier.fr
CONTACT:06 65 05 56 22
ORGANIZER:Anne Lautier - S'offrir le bonheur
ATTACH;FMTTYPE="image/jpeg":http://storage.ning.com/topology/rest/1.0/
 file/get/1663555229?profile=original
ATTENDEE;ROLE=REQ-PARTICIPANT;PARTSTAT=ACCEPTED;RSVP=TRUE;CN="Anne - S
 'offrir le bonheur":https://epanews.fr/profile/AnneSoffrirlebonheur
END:VEVENT
END:VCALENDAR
