BEGIN:VCALENDAR
PRODID:NingEventWidget-v1
VERSION:2.0
METHOD:PUBLISH
BEGIN:VTIMEZONE
TZID:Europe/Paris
X-LIC-LOCATION:Europe/Paris
BEGIN:DAYLIGHT
TZOFFSETFROM:+0100
TZOFFSETTO:+0200
TZNAME:CEST
DTSTART:19700329T020000
RRULE:FREQ=YEARLY;BYMONTH=3;BYDAY=-1SU
END:DAYLIGHT
BEGIN:STANDARD
TZOFFSETFROM:+0200
TZOFFSETTO:+0100
TZNAME:CET
DTSTART:19701025T030000
RRULE:FREQ=YEARLY;BYMONTH=10;BYDAY=-1SU
END:STANDARD
END:VTIMEZONE
BEGIN:VEVENT
UID:2485226:Event:189510
DTSTAMP:20260420T155418Z
SUMMARY:Atelier de Reprogrammation Cellulaire
DESCRIPTION:Nourrir le coeur afin d'entrer en communion avec Mère Nat
 ure et toutes les essences qui La composent\nRituel pour se libérer d
 u mental et du conditionnement humain afin de retrouver notre place d'
 enfant divin\npar Marie Manohari\nparticipation : 30 euros\n\nPour plu
 s d'information, aller sur https://epanews.fr/events/atelier-de-reprog
 rammation
DTSTART;TZID=Europe/Paris:20110205T091500
DTEND;TZID=Europe/Paris:20110205T123000
CATEGORIES:13
LOCATION:Marseille
WEBSITE:
URL:
CONTACT:
ORGANIZER;CN="Alban Bourdy":https://epanews.fr/profile/AlbanBourdy
ATTACH;FMTTYPE="image/jpeg":
ATTENDEE;ROLE=REQ-PARTICIPANT;PARTSTAT=ACCEPTED;RSVP=TRUE;CN="Alban Bo
 urdy":https://epanews.fr/profile/AlbanBourdy
ATTENDEE;ROLE=REQ-PARTICIPANT;PARTSTAT=TENTATIVE;RSVP=TRUE;CN=joelle:h
 ttps://epanews.fr/profile/joellespisso
END:VEVENT
END:VCALENDAR
