BEGIN:VCALENDAR
PRODID:NingEventWidget-v1
VERSION:2.0
METHOD:PUBLISH
BEGIN:VTIMEZONE
TZID:Europe/Paris
X-LIC-LOCATION:Europe/Paris
BEGIN:DAYLIGHT
TZOFFSETFROM:+0100
TZOFFSETTO:+0200
TZNAME:CEST
DTSTART:19700329T020000
RRULE:FREQ=YEARLY;BYMONTH=3;BYDAY=-1SU
END:DAYLIGHT
BEGIN:STANDARD
TZOFFSETFROM:+0200
TZOFFSETTO:+0100
TZNAME:CET
DTSTART:19701025T030000
RRULE:FREQ=YEARLY;BYMONTH=10;BYDAY=-1SU
END:STANDARD
END:VTIMEZONE
BEGIN:VEVENT
UID:2485226:Event:1054316
DTSTAMP:20260422T020455Z
SUMMARY:atelier de relaxation dÃ©couvrir son intuitif
DESCRIPTION:Â attention l'atelier est complet\nL'association Lamibonhe
 ur vous propose cet atelier:\nLa maladie et les affections psychologiq
 ues nous rendent vulnÃ©rables face Ã  la vie et peuventÂ  nous affecte
 rÂ  profondÃ©ment. Souvent elle nous isole alors que câ€™est lÃ  que n
 ous aurions besoin dâ€™ÃªtreÂ  choyÃ©s et entourÃ©s.Â \nJe vous propos
 e Â de vous aiderÃ  vous Â  aimer un peu plusÂ  en vous faisantÂ  dÃ©c
 ouvrir les merveillesÂ  de lâ€™intuitifÂ  en groupe.Â  Dans cet atelie
 r on aborderaÂ :Â \nApprendre Ã  se poser et laisser faire par lâ€™anc
 rage, Â apprendre Ã  se faire confiance avec un bandeau, apprendre Ã  
 prendre le temps de ralentir le temps pour Ã©couter lâ€™autre et sâ€™o
 ffrir (donner câ€™est recevoir, recevoir câ€™est donner), apprendre Ã 
  voir avec les mains Câ€™est un geste que vous connaissez dÃ©jÃ  mais 
 souvent oubliÃ©.\nAtelier limitÃ© Ã  9 personnes\nPrÃ©voir short ample
  ou un maillot de bains , une grande serviette et bien sÃ»r, vos mains
 Â \nDurÃ© de lâ€™atelier 2 heures 30Â \nJe vous invite donc Ã  venir Ã
   cette soirÃ©e gratuite.Â \nVous pourrez sur place vous informer, dÃ©
 couvrir et pratiquer cette mÃ©thode.Â \nCette technique s'adresse Ã  t
 oute personne dÃ©sireuse de se sentir mieux dans son corps et dans sa 
 tÃªte Ã  travers le toucher.\nÂ \n\nPour plus d'information, aller sur
  https://epanews.fr/events/atelier-de-relaxation-d-couvrir-son-intuiti
 f
DTSTART;TZID=Europe/Paris:20130118T190000
DTEND;TZID=Europe/Paris:20130118T213000
CATEGORIES:83
LOCATION:toulon ouest
WEBSITE:
URL:
CONTACT:06 61 91 28 00
ORGANIZER;CN="Patrick MALLET":https://epanews.fr/profile/mallet
ATTACH;FMTTYPE="image/jpeg":http://storage.ning.com/topology/rest/1.0/
 file/get/1662697139?profile=original
ATTENDEE;ROLE=REQ-PARTICIPANT;PARTSTAT=ACCEPTED;RSVP=TRUE;CN=Monikka:h
 ttps://epanews.fr/profile/Monikka
ATTENDEE;ROLE=REQ-PARTICIPANT;PARTSTAT=ACCEPTED;RSVP=TRUE;CN="Patrick 
 MALLET":https://epanews.fr/profile/mallet
ATTENDEE;ROLE=REQ-PARTICIPANT;PARTSTAT=TENTATIVE;RSVP=TRUE;CN="Anne-Ma
 rie PAILLARD":https://epanews.fr/profile/AnneMariePAILLARD
END:VEVENT
END:VCALENDAR
