BEGIN:VCALENDAR
PRODID:NingEventWidget-v1
VERSION:2.0
METHOD:PUBLISH
BEGIN:VTIMEZONE
TZID:Europe/Paris
X-LIC-LOCATION:Europe/Paris
BEGIN:DAYLIGHT
TZOFFSETFROM:+0100
TZOFFSETTO:+0200
TZNAME:CEST
DTSTART:19700329T020000
RRULE:FREQ=YEARLY;BYMONTH=3;BYDAY=-1SU
END:DAYLIGHT
BEGIN:STANDARD
TZOFFSETFROM:+0200
TZOFFSETTO:+0100
TZNAME:CET
DTSTART:19701025T030000
RRULE:FREQ=YEARLY;BYMONTH=10;BYDAY=-1SU
END:STANDARD
END:VTIMEZONE
BEGIN:VEVENT
UID:2485226:Event:2244868
DTSTAMP:20260423T191005Z
SUMMARY:Modification demandée
DESCRIPTION:Les symboles universels et la vibration du son et du mouve
 ment pour réveiller notre énergie vitale, notre force créatrice !\n
 En ces temps troublés, continuons de regarder ce qui est beau, de par
 tager de la joie, de l'amour, de la tendresse, la fraternité !!! C'es
 t dans cet esprit que je vous convie à venir danser, vous relier, vou
 s ressourcer à la\nRelax-danSe DIMANCHE 15 MARS 2015\nde 10h à 12h\n
 Entrons dans la danse !!!  Bienvenue à toutes et tous.\nIl n’est pa
 s nécessaire de savoir danser, juste de se laisser porter par les ind
 ications et la musique.  Ateliers mensuels indépendants.\nLa Relax-da
 nSe® permet l'exploration du symbolisme et l'approche du sacré à tr
 avers les sensations et l'expression corporelle. Elle vous invite à r
 essentir, à retrouver et vivre pleinement votre force créatrice. Ell
 e harmonise vos énergies masculine et féminine et vous ressource en 
 profondeur. Danser dans l'authenticité, partager, se relier, rire ...
 \n\nPour plus d'information, aller sur https://epanews.fr/events/ateli
 er-de-relax-danse-th-me-le-son
DTSTART;TZID=Europe/Paris:20150315T100000
DTEND;TZID=Europe/Paris:20150315T120000
CATEGORIES:75
LOCATION:CPBPL, Paris 11ème- métro Père-Lachaise
WEBSITE:http://lesartsetlecoeur.net
URL:http://lesartsetlecoeur.net
CONTACT:06.82.39.44.39
ORGANIZER;CN="Sandrine Michelot":https://epanews.fr/profile/Sandrine32
 8
ATTACH;FMTTYPE="image/jpeg":http://storage.ning.com/topology/rest/1.0/
 file/get/1663339250?profile=original
ATTENDEE;ROLE=REQ-PARTICIPANT;PARTSTAT=ACCEPTED;RSVP=TRUE;CN="Sandrine
  Michelot":https://epanews.fr/profile/Sandrine328
END:VEVENT
END:VCALENDAR
