BEGIN:VCALENDAR
PRODID:NingEventWidget-v1
VERSION:2.0
METHOD:PUBLISH
BEGIN:VTIMEZONE
TZID:Europe/Paris
X-LIC-LOCATION:Europe/Paris
BEGIN:DAYLIGHT
TZOFFSETFROM:+0100
TZOFFSETTO:+0200
TZNAME:CEST
DTSTART:19700329T020000
RRULE:FREQ=YEARLY;BYMONTH=3;BYDAY=-1SU
END:DAYLIGHT
BEGIN:STANDARD
TZOFFSETFROM:+0200
TZOFFSETTO:+0100
TZNAME:CET
DTSTART:19701025T030000
RRULE:FREQ=YEARLY;BYMONTH=10;BYDAY=-1SU
END:STANDARD
END:VTIMEZONE
BEGIN:VEVENT
UID:2485226:Event:800721
DTSTAMP:20260422T021810Z
SUMMARY:Atelier de radiesthesie
DESCRIPTION:Â Dans la yourte de CenthÃ©A\nÂ Un stage de qualitÃ© Ã  un
  tarif exceptionnel !!Â \nÂ ATELIERS DE RADIESTHESIEÂ Â  de 10h Ã  17h
  ProposÃ© par Philippe ARNOULD / RadiesthÃ©siste - GÃ©obiologue\nNivea
 u 2Â Â  Recherches et Applications en RadiesthÃ©sie ThÃ©rapies et RemÃ
 ¨des AromathÃ©rapie,Elixirs, LithothÃ©rapie.. Approche de la GÃ©obiolo
 gie Et dÃ©tection des diffÃ©rentes sources de nuisances\nPrix du stage
  : 20Â â‚¬ AdhÃ©rent CenthÃ©a : 15 â‚¬ Un dossier vous sera prÃªtÃ© po
 ur travailler Vous pourrez l'acquÃ©rir au prix de 7â‚¬\nRÃ©servation a
 u :Â 06.64.34.89.29\narnouldphilippe1@gmail.com\n\nPour plus d'informa
 tion, aller sur https://epanews.fr/events/atelier-de-radiesthesie
DTSTART;TZID=Europe/Paris:20120520T100000
DTEND;TZID=Europe/Paris:20120520T170000
CATEGORIES:83
LOCATION:le thoronet - hameau les camails
WEBSITE:
URL:
CONTACT:
ORGANIZER;CN=CenthÃ©A:https://epanews.fr/profile/GROUPIERREChantal
ATTACH;FMTTYPE="image/jpeg":http://storage.ning.com/topology/rest/1.0/
 file/get/1662607683?profile=original
ATTENDEE;ROLE=REQ-PARTICIPANT;PARTSTAT=ACCEPTED;RSVP=TRUE;CN=CenthÃ©A:
 https://epanews.fr/profile/GROUPIERREChantal
END:VEVENT
END:VCALENDAR
