BEGIN:VCALENDAR
PRODID:NingEventWidget-v1
VERSION:2.0
METHOD:PUBLISH
BEGIN:VTIMEZONE
TZID:Europe/Paris
X-LIC-LOCATION:Europe/Paris
BEGIN:DAYLIGHT
TZOFFSETFROM:+0100
TZOFFSETTO:+0200
TZNAME:CEST
DTSTART:19700329T020000
RRULE:FREQ=YEARLY;BYMONTH=3;BYDAY=-1SU
END:DAYLIGHT
BEGIN:STANDARD
TZOFFSETFROM:+0200
TZOFFSETTO:+0100
TZNAME:CET
DTSTART:19701025T030000
RRULE:FREQ=YEARLY;BYMONTH=10;BYDAY=-1SU
END:STANDARD
END:VTIMEZONE
BEGIN:VEVENT
UID:2485226:Event:831593
DTSTAMP:20260420T101509Z
SUMMARY:Atelier de radiesthésie vibratoire - 29 mai Milly la Forêt -
  91
DESCRIPTION:Dans la série \"LES ATELIERS DU MARDI SOIR - entraînemen
 t au ressenti énergétique sur plan, en géobiologie et circuits éne
 rgétiques sur cathédrale. Prix 20 € - Inscription par téléphone 
 au 01 64 98 09 01.\n\nPour plus d'information, aller sur https://epane
 ws.fr/events/atelier-de-radiesth-sie-vibratoire-29-mai-milly-la-for-t-
 91
DTSTART;TZID=Europe/Paris:20120529T190000
DTEND;TZID=Europe/Paris:20120529T211500
CATEGORIES:91
LOCATION:MILLY LA FORET -
WEBSITE:http://www.l-homme-energetique.fr
URL:http://www.l-homme-energetique.fr
CONTACT:01 64 98 09 01
ORGANIZER;CN="Brigitte du Castel":https://epanews.fr/profile/Brigitted
 uCastel
ATTACH;FMTTYPE="image/jpeg":http://storage.ning.com/topology/rest/1.0/
 file/get/1662614913?profile=original
ATTENDEE;ROLE=REQ-PARTICIPANT;PARTSTAT=ACCEPTED;RSVP=TRUE;CN="Brigitte
  du Castel":https://epanews.fr/profile/BrigitteduCastel
END:VEVENT
END:VCALENDAR
