BEGIN:VCALENDAR
PRODID:NingEventWidget-v1
VERSION:2.0
METHOD:PUBLISH
BEGIN:VTIMEZONE
TZID:Europe/Paris
X-LIC-LOCATION:Europe/Paris
BEGIN:DAYLIGHT
TZOFFSETFROM:+0100
TZOFFSETTO:+0200
TZNAME:CEST
DTSTART:19700329T020000
RRULE:FREQ=YEARLY;BYMONTH=3;BYDAY=-1SU
END:DAYLIGHT
BEGIN:STANDARD
TZOFFSETFROM:+0200
TZOFFSETTO:+0100
TZNAME:CET
DTSTART:19701025T030000
RRULE:FREQ=YEARLY;BYMONTH=10;BYDAY=-1SU
END:STANDARD
END:VTIMEZONE
BEGIN:VEVENT
UID:2485226:Event:1607514
DTSTAMP:20260423T111216Z
SUMMARY:Atelier de qi gong \"corps de jade
DESCRIPTION:Atelier de 3h sur la mÃ©thode du Â« corps de jade Â» du Dr
  LIU DONG le 16 novembre 2013 de 9h 15 Ã  12h 15, salle parquet de lâ€
 ™Espace GroÃ«z-Ven Ã  Ploemel.\nSelon la mÃ©decine chinoise, des centa
 ines de maladies proviennent de problÃ¨mes Ã  la colonne vertÃ©brale. 
 Le corps de jade est une mÃ©thode simple, mais puissante de guÃ©rison 
 de nombreux problÃ¨mes de la colonne en imitant les mouvements et la r
 espiration de la tortue, (ondulation des cervicales), de la grue (ondu
 lation des dorsales) et du dragonÂ  (rotation des lombaires).\nIl en r
 Ã©sulte une stimulation de tous les organes internes, une meilleure ci
 rculation de lâ€™Ã©nergie et du sang dans tout le corps et un renforce
 ment des dÃ©fenses immunitaires. Ces exercices ont Ã©galement un effet
  bÃ©nÃ©fique sur la rÃ©gulation des problÃ¨mes endocriniens etÂ  pour 
 calmer le cÅ“ur.\nTarif : SÃ©ance dâ€™essai gratuite ;Â  atelier de 3 
 h: 12 euros (9 si adhÃ©rent) ;\nEmail : lesouffledumenhir@gmail.com\nS
 ite : https://sites.google.com/site/lesouffledumenhir/\n\nPour plus d'
 information, aller sur https://epanews.fr/events/atelier-de-qi-gong-co
 rps-de-jade
DTSTART;TZID=Europe/Paris:20131116T091500
DTEND;TZID=Europe/Paris:20131116T121500
CATEGORIES:56
LOCATION:salle parquet de lâ€™Espace GroÃ«z-Ven
WEBSITE:https://sites.google.com/site/lesouffledumenhir/
URL:https://sites.google.com/site/lesouffledumenhir/
CONTACT:
ORGANIZER:association le souffle du menhir
ATTACH;FMTTYPE="image/jpeg":http://storage.ning.com/topology/rest/1.0/
 file/get/1662961484?profile=original
ATTENDEE;ROLE=REQ-PARTICIPANT;PARTSTAT=ACCEPTED;RSVP=TRUE;CN="bracchi 
 martine":https://epanews.fr/profile/bracchimartine
END:VEVENT
END:VCALENDAR
