BEGIN:VCALENDAR
PRODID:NingEventWidget-v1
VERSION:2.0
METHOD:PUBLISH
BEGIN:VTIMEZONE
TZID:Europe/Paris
X-LIC-LOCATION:Europe/Paris
BEGIN:DAYLIGHT
TZOFFSETFROM:+0100
TZOFFSETTO:+0200
TZNAME:CEST
DTSTART:19700329T020000
RRULE:FREQ=YEARLY;BYMONTH=3;BYDAY=-1SU
END:DAYLIGHT
BEGIN:STANDARD
TZOFFSETFROM:+0200
TZOFFSETTO:+0100
TZNAME:CET
DTSTART:19701025T030000
RRULE:FREQ=YEARLY;BYMONTH=10;BYDAY=-1SU
END:STANDARD
END:VTIMEZONE
BEGIN:VEVENT
UID:2485226:Event:151117
DTSTAMP:20260420T135642Z
SUMMARY:Atelier de Présence
DESCRIPTION:Un espace et une rencontre pour nous ouvrir à notre natur
 e éveillée. Comme une fleur au doux parfum, elle diffuse naturelleme
 nt paix, amour et joie.\nNos partages seront également l'opportunité
  de comprendre comment maintenir notre ouverture au quotidien, et dans
  nos relations.\nAu lieu de nous fixer sur l'éveil, nous apprenons si
 mplement à vivre dans le présent de façon toujours plus ouverte, fl
 uide et aimante.\nLa vie dans la présence est un épanouissement joye
 ux et infini.\n100 € le week-end, 60 € la journée\ncontact@la-pre
 sence.com\n\nPour plus d'information, aller sur https://epanews.fr/eve
 nts/atelier-de-presence-88
DTSTART;TZID=Europe/Paris:20101120T100000
DTEND;TZID=Europe/Paris:20101121T180000
CATEGORIES:34, 13, 30, 84
LOCATION:Ecole de Yoga
WEBSITE:http://www.la-presence.com
URL:http://www.la-presence.com
CONTACT:09 81 00 55 78
ORGANIZER;CN="Sébastien Fargue":https://epanews.fr/profile/SebastienF
 argue
ATTACH;FMTTYPE="image/jpeg":
ATTENDEE;ROLE=REQ-PARTICIPANT;PARTSTAT=ACCEPTED;RSVP=TRUE;CN="Sébasti
 en Fargue":https://epanews.fr/profile/SebastienFargue
END:VEVENT
END:VCALENDAR
