BEGIN:VCALENDAR
PRODID:NingEventWidget-v1
VERSION:2.0
METHOD:PUBLISH
BEGIN:VTIMEZONE
TZID:Europe/Paris
X-LIC-LOCATION:Europe/Paris
BEGIN:DAYLIGHT
TZOFFSETFROM:+0100
TZOFFSETTO:+0200
TZNAME:CEST
DTSTART:19700329T020000
RRULE:FREQ=YEARLY;BYMONTH=3;BYDAY=-1SU
END:DAYLIGHT
BEGIN:STANDARD
TZOFFSETFROM:+0200
TZOFFSETTO:+0100
TZNAME:CET
DTSTART:19701025T030000
RRULE:FREQ=YEARLY;BYMONTH=10;BYDAY=-1SU
END:STANDARD
END:VTIMEZONE
BEGIN:VEVENT
UID:2485226:Event:1416055
DTSTAMP:20260422T004451Z
SUMMARY:Atelier de Présentation
DESCRIPTION:samedi 22 juin à 14h15.\nAtelier de Présentation\nForma
 tion en Communication Relationnelle\nRelation Humaine et développemen
 t personnel\n\"Devenir co-auteur de son histoire\"\nà Toulon (à cot
 é de Mayol)\n\nCet Atelier est gratuit.\n\nMerci de ne pas oublier de
  vous y inscrire (les places étant limitées) en envoyant un mail à 
 mon adresse habituelle : eclore01@gmail.com\n\nAu programme,\n- Prés
 entation de  la formation \"Devenir co-auteur de son histoire\", (dé
 marrage en sept.)\n- Présentation des ateliers de Communication et J
 eux de rôle à l'Association Le Parlé Vivant (démarrage en sept.)\
 n- Les petits stages d'été d'Initiation au Relais Peiresc (début ju
 illet)\n- Réponses aux questions posées sur les ateliers, la méthod
 e et démonstration de visualisation.\n\nJe vous souhaite enthousiaste
 s, curieux et nombreux.\nChaleureusement\nAnabelle\n\n\nPour plus d'in
 formation, aller sur https://epanews.fr/events/atelier-de-pr-sentation
DTSTART;TZID=Europe/Paris:20130622T141500
DTEND;TZID=Europe/Paris:20130622T173000
CATEGORIES:83
LOCATION:Association ECLORE
WEBSITE:
URL:
CONTACT:0609361790
ORGANIZER;CN="Anabelle Sanchez Asso. ECLORE":https://epanews.fr/profil
 e/AnabelleSanchezAssoECLORE
ATTACH;FMTTYPE="image/jpeg":http://storage.ning.com/topology/rest/1.0/
 file/get/1662865522?profile=original
ATTENDEE;ROLE=REQ-PARTICIPANT;PARTSTAT=ACCEPTED;RSVP=TRUE;CN="Anabelle
  Sanchez Asso. ECLORE":https://epanews.fr/profile/AnabelleSanchezAssoE
 CLORE
END:VEVENT
END:VCALENDAR
