BEGIN:VCALENDAR
PRODID:NingEventWidget-v1
VERSION:2.0
METHOD:PUBLISH
BEGIN:VTIMEZONE
TZID:Europe/Paris
X-LIC-LOCATION:Europe/Paris
BEGIN:DAYLIGHT
TZOFFSETFROM:+0100
TZOFFSETTO:+0200
TZNAME:CEST
DTSTART:19700329T020000
RRULE:FREQ=YEARLY;BYMONTH=3;BYDAY=-1SU
END:DAYLIGHT
BEGIN:STANDARD
TZOFFSETFROM:+0200
TZOFFSETTO:+0100
TZNAME:CET
DTSTART:19701025T030000
RRULE:FREQ=YEARLY;BYMONTH=10;BYDAY=-1SU
END:STANDARD
END:VTIMEZONE
BEGIN:VEVENT
UID:2485226:Event:595034
DTSTAMP:20260423T224110Z
SUMMARY:Atelier de Peintures  Vibratoires Sacrées Samedi 26 Novembre 
 2011 à Avignon
DESCRIPTION: ATELIER PEINTURES VIBRATOIRES SACREES\nà Armony de Vivr
 e Avignon\n33, route de Montfavet\n04.90.88.44.75\nSamedi 26 Novembre 
 2011\n*10h- 12h   Présentation des oeuvres \n     *15h-18h Ate
 lier Peintures   ......44 e\nCes espaces de rencontres intérieures 
 et de connexion à nos guides, permettent une avancée vers soi et ver
 s son Soi Divin.\nLa main nous délie et les couleurs nous révèlent 
 et nous illustrent en proposant des accès à nos mondes intérieurs e
 t à nos fréquences d'élévation.\nLes toiles se réalisent en nous 
 alignant peu à peu sur la vibration qui nous correspond et nous perme
 t\nd 'exprimer notre Etreté, dans notre créativité révélée.\nRÉ
 SERVATION INDISPENSABLE AU 06 77 80 80 09\n\n\nPour plus d'information
 , aller sur https://epanews.fr/events/atelier-de-peintures-vibratoires
 -sacr-es-samedi-26-novembre-2011
DTSTART;TZID=Europe/Paris:20111126T100000
DTEND;TZID=Europe/Paris:20111126T180000
CATEGORIES:84
LOCATION:AVIGNON
WEBSITE:
URL:
CONTACT:06 77 80 80 09
ORGANIZER;CN="Marilou coach d 'éveil énergie":https://epanews.fr/pro
 file/Marilou
ATTACH;FMTTYPE="image/jpeg":http://storage.ning.com/topology/rest/1.0/
 file/get/1662497998?profile=original
ATTENDEE;ROLE=REQ-PARTICIPANT;PARTSTAT=ACCEPTED;RSVP=TRUE;CN="Marilou 
 coach d 'éveil énergie":https://epanews.fr/profile/Marilou
END:VEVENT
END:VCALENDAR
