BEGIN:VCALENDAR
PRODID:NingEventWidget-v1
VERSION:2.0
METHOD:PUBLISH
BEGIN:VTIMEZONE
TZID:Europe/Paris
X-LIC-LOCATION:Europe/Paris
BEGIN:DAYLIGHT
TZOFFSETFROM:+0100
TZOFFSETTO:+0200
TZNAME:CEST
DTSTART:19700329T020000
RRULE:FREQ=YEARLY;BYMONTH=3;BYDAY=-1SU
END:DAYLIGHT
BEGIN:STANDARD
TZOFFSETFROM:+0200
TZOFFSETTO:+0100
TZNAME:CET
DTSTART:19701025T030000
RRULE:FREQ=YEARLY;BYMONTH=10;BYDAY=-1SU
END:STANDARD
END:VTIMEZONE
BEGIN:VEVENT
UID:2485226:Event:2163895
DTSTAMP:20260422T124818Z
SUMMARY:Atelier de peinture intuitive et/ ou stage Mission d'Ã‚me
DESCRIPTION:Artiste peintre, je vous propose de nous retrouver pour un
  atelier de peinture intuitive de 3 personnes dans le 16Ã¨me Ã  Paris.
 Â Tous niveaux, que vous soyez grand dÃ©butant ou peintre expÃ©rimentÃ
 ©, il sâ€™agit dâ€™accÃ©der Ã  une peinture qui soit le reflet de votr
 e Ã‚me. Pour les dÃ©butants, cela sera l'occasion de dÃ©couvrir et de 
 s'Ã©tonner de sa propre crÃ©ativitÃ© en s'amusant. Pour les peintres c
 onfirmÃ©s, cela peut Ãªtre l'occasion de trouver un nouveau souffle, d
 e nouvelles sources d'inspiration, d'Ãªtre au plus vrai et au plus prÃ
 ¨s de soi-mÃªme.Dans un cadre confortable et chaleureux, je vous accom
 pagne Ã  la dÃ©couverte de votre ÃŠtre profond. De faÃ§on ludique, je 
 vous propose un travail qui vise la libÃ©ration et laÂ transformation 
 pour en sortir le meilleur, le beau en soi.A travers la peinture, vous
  pourrez :â€¢ Exprimer la voix et la voie de votre Ã¢me ,Â â€¢ AccÃ©de
 r Ã  votre inconscient de faÃ§on diffÃ©rente,â€¢ vous Ã©tonner de votr
 e propre crÃ©ativitÃ© tout en vous faisant plaisir. Il suffit de jouer
  avec les formes et les couleurs,â€¢ vous laisser aller Ã  votre propr
 e intuition, votre guide intÃ©rieur.Les maÃ®tres â€“mots : OSER â€“ SE
  FAIRE CONFIANCE â€“ LAISSER LIBRE COURS A SON IMAGINATIONCâ€™est avec
  plaisir que je vous fais partager le bonheur du processus crÃ©atif qu
 e jâ€™expÃ©rimente moi-mÃªme dans mon travail.Un thÃ© et des petits gÃ
 ¢teaux vous seront servis au cours de lâ€™atelier.DÃ©roulement de lâ€™
 atelierâ€¢ PrÃ©sentation des participants et transmission des consigne
 sâ€¢ Choix du thÃ¨me : soit un thÃ¨me est proposÃ© en dÃ©but de sÃ©anc
 e, comme par exemple, Â« Quâ€™est-ce qui vous fait vibrer ? Â», soit u
 n tirage de cartes dÃ©termine le thÃ¨me pour chacun, soit vous dÃ©cide
 z vous-mÃªme de votre thÃ¨me.â€¢ CrÃ©ationâ€¢ Partage des expÃ©riences
  de chacun en fin dâ€™atelierModalitÃ©s pratiquesUne sÃ©ance de 3 heur
 es.Le matÃ©riel est fourni (peintures, pinceaux, papiers). Je vous sug
 gÃ¨re dâ€™amener une blouse ou autre vÃªtement de protection ainsi quâ
 €™un carton Ã  dessin ou Ã©lastique pour ramener vos crÃ©ations.Inscri
 ptionsLes inscriptions se font soit par mail Ã  gourdonp@free.fr, soit
  par tÃ©lÃ©phone au 06.70.06.67.81. Les inscriptions sont dÃ©finitives
  Ã  rÃ©ception dâ€™un chÃ¨que pour les arrhes de 10 euros Ã  lâ€™ordre
  de Pascale Gourdon et Ã  adresser Ã  Pascale Gourdon 196, avenue de V
 ersailles 75016 Paris. Ce chÃ¨que est conservÃ© en cas de dÃ©sistement
  moins dâ€™une semaine avant la date de lâ€™atelier.Lâ€™adresse prÃ©ci
 se vous est communiquÃ©e lors de votre inscriptionÂ Dates et horaires 
 pour le mois de Janvier :â€¢ Dimanche 4 Janvier 2015 de 14H30 Ã  17H30
 â€¢ Mercredi 7 Janvier 2015 de 14H30 Ã  17H30â€¢ Dimanche 11 Janvier 2
 015 de 14H30 Ã  17H30Dimanche 18 Janvier 2015 de 14H30 Ã  17H30â€¢ Mer
 credi 21 Janvier 2015 de 14H30 Ã  17H30Dimanche 25 Janvier 2015 de 14H
 30 Ã  17H30â€¢ Mercredi 28 Janvier 2015 de 14H30 Ã  17H30Le tarif est 
 de 55 euros pour une sÃ©ance de 3H ou 45 euros Ã  partir de lâ€™achat 
 dâ€™un forfait de 7 sÃ©ances de 3H, sachant que des ateliers sont orga
 nisÃ©s tous les dimanches et mercredi (sauf exceptions) tout au long d
 e lâ€™annÃ©e.\n\nPour plus d'information, aller sur https://epanews.fr
 /events/atelier-de-peinture-intuitive-et-ou-stage-mission-d-me-3
DTSTART;TZID=Europe/Paris:20150118T143000
DTEND;TZID=Europe/Paris:20150118T173000
CATEGORIES:75
LOCATION:Paris 16
WEBSITE:http://www.pascalegourdon.com
URL:http://www.pascalegourdon.com
CONTACT:33670066781
ORGANIZER;CN=Pascale:https://epanews.fr/profile/Pascale842
ATTACH;FMTTYPE="image/jpeg":http://storage.ning.com/topology/rest/1.0/
 file/get/1663290622?profile=original
ATTENDEE;ROLE=REQ-PARTICIPANT;PARTSTAT=ACCEPTED;RSVP=TRUE;CN=Pascale:h
 ttps://epanews.fr/profile/Pascale842
END:VEVENT
END:VCALENDAR
