BEGIN:VCALENDAR
PRODID:NingEventWidget-v1
VERSION:2.0
METHOD:PUBLISH
BEGIN:VTIMEZONE
TZID:Europe/Paris
X-LIC-LOCATION:Europe/Paris
BEGIN:DAYLIGHT
TZOFFSETFROM:+0100
TZOFFSETTO:+0200
TZNAME:CEST
DTSTART:19700329T020000
RRULE:FREQ=YEARLY;BYMONTH=3;BYDAY=-1SU
END:DAYLIGHT
BEGIN:STANDARD
TZOFFSETFROM:+0200
TZOFFSETTO:+0100
TZNAME:CET
DTSTART:19701025T030000
RRULE:FREQ=YEARLY;BYMONTH=10;BYDAY=-1SU
END:STANDARD
END:VTIMEZONE
BEGIN:VEVENT
UID:2485226:Event:539056
DTSTAMP:20260423T000452Z
SUMMARY:Atelier de Parents, saison 3, Ã©pisode 1 !!!
DESCRIPTION:29 Septembre Ã  19h : Informations, rencontres, inscriptio
 ns.\nL'Atelier de Parents :\nAu sein du groupe, chacun sort de la croy
 ance quâ€™il est seul Ã  vivre des difficultÃ©s avec ses enfants, vali
 de des connaissances, des savoir-faire et sa valeur, et acquiert de no
 uveaux outils pour communiquer avec ses enfants, quel que soit leur Ã¢
 ge.\nCe qui nous regroupe ici sont les questionnements ou les difficul
 tÃ©s concernant lâ€™Ã©ducation de nos enfants.\nL'action de Grandâ€™Di
 re Ensemble consiste Ã  accompagner le cheminement de chaque personne 
 prÃ©sente dans le groupe, en libÃ©rant la parole, ainsi qu'en menant d
 es ateliers coopÃ©ratifs, avec des outils divers et alternatifs.\nDans
  ce cadre, du cercle de parole Ã  la mise en situation, en passant par
  la thÃ©orie ou le jeu, chacun chemine au sein du groupe. Gâ€™DE donne
  des outils concrets pour accompagner l'enfant, afin de monter les pre
 miÃ¨res marches qui mÃ¨nent Ã  la relation paisible avec soi et avec l
 'autre.\nLâ€™estime de soi remonte, ainsi que la confiance qui permet 
 dâ€™aller de lâ€™avant.\nPar le corps physiqueÂ (ce que je sens), le c
 orps Ã©motionnelÂ (ce que je ressens), par le corps mentalÂ (ce que je
  pense) et le corps spirituelÂ (le sens que cela a), il sâ€™agit dâ€™Ã
 ©duquer lâ€™Ãªtre dans son entier et de permettre que se multiplient l
 es sources dâ€™Ã©panouissement.\nL'Atelier de Parents est le lieu pour
  expÃ©rimenter sans risque...\nÂ \nUn groupe est composÃ© des mÃªmes p
 ersonnes -5 Ã  8- durant au moins 3 sÃ©ances pour lesquelles elles sâ€
 ™engagent, si elles le souhaitent, aprÃ¨s la premiÃ¨re.Â Â Â Â Â Â Â Â
  Â Â Â Â Â Â Â Â Â Â Â \nLes 3 premiers ateliers durent 2h chacun. Les
  suivants 3h. PossibilitÃ© de journÃ©e ou demi-journÃ©e.\nÂ \nLe tarif
  est fixÃ© Ã  10â‚¬/h par personne. AdhÃ©sion Ã  l'Asso (facultative) 
 : 8â‚¬\n\n\nPour plus d'information, aller sur https://epanews.fr/even
 ts/atelier-de-parents-saison-3-pisode-1
DTSTART;TZID=Europe/Paris:20110929T190000
DTEND;TZID=Europe/Paris:20110929T210000
CATEGORIES:34
LOCATION:Montpellier
WEBSITE:http://granddireensemble.e-monsite.com
URL:http://granddireensemble.e-monsite.com
CONTACT:0671185936
ORGANIZER:Grand'Dire Ensemble
ATTACH;FMTTYPE="image/jpeg":http://storage.ning.com/topology/rest/1.0/
 file/get/1662464987?profile=original
ATTENDEE;ROLE=REQ-PARTICIPANT;PARTSTAT=ACCEPTED;RSVP=TRUE;CN=Valy:http
 s://epanews.fr/profile/ValerieOrvain
END:VEVENT
END:VCALENDAR
