BEGIN:VCALENDAR
PRODID:NingEventWidget-v1
VERSION:2.0
METHOD:PUBLISH
BEGIN:VTIMEZONE
TZID:Europe/Paris
X-LIC-LOCATION:Europe/Paris
BEGIN:DAYLIGHT
TZOFFSETFROM:+0100
TZOFFSETTO:+0200
TZNAME:CEST
DTSTART:19700329T020000
RRULE:FREQ=YEARLY;BYMONTH=3;BYDAY=-1SU
END:DAYLIGHT
BEGIN:STANDARD
TZOFFSETFROM:+0200
TZOFFSETTO:+0100
TZNAME:CET
DTSTART:19701025T030000
RRULE:FREQ=YEARLY;BYMONTH=10;BYDAY=-1SU
END:STANDARD
END:VTIMEZONE
BEGIN:VEVENT
UID:2485226:Event:2664723
DTSTAMP:20260423T040847Z
SUMMARY:Atelier de Mindfulness / Méditation Pleine-conscience Rennes
DESCRIPTION:Avec la pratique du mindfulness, traduit en français par 
 “méditation de pleine conscience”, on entraîne sa capacité à p
 rendre du recul et à rester serein , tout en conservant son discernem
 ent. Cette technique a été intégrée dans la pratique médicale dan
 s les années 1970 par le Pr de médecine Jon Kabat Zinn. Elle consist
 e à ramener son attention sur l’instant présent et accueillir ce q
 ui se présente à l’esprit, sans jugement, ni intention de vouloir 
 tout contrôler. Résultat : les pensées sont canalisées, moins de s
 tress, et plus de vitalité pour aborder son quotidien.Formation déco
 uverte en 1 jour, ouverte à tous.Une partie théorique et pratique qu
 i permet de comprendre la logique et l’esprit de la méthode : une j
 ournée pour découvrir, assimiler et savoir reproduire les exercices 
 efficaces abordés en formation. Le contenu est concret et accessible.
 Intérêt pour les particuliers, dans leur sphère personnelle et prof
 essionnelle et pour les organisations.\n\nPour plus d'information, all
 er sur https://epanews.fr/events/atelier-de-mindfulness-m-ditation-ple
 ine-conscience-rennes
DTSTART;TZID=Europe/Paris:20161014T000000
DTEND;TZID=Europe/Paris:20161014T235900
CATEGORIES:35000
LOCATION:Ecole du Positif
WEBSITE:http://www.ecole-du-positif.com/formations-a-la-carte/mindfuln
 ess
URL:http://www.ecole-du-positif.com/formations-a-la-carte/mindfulness
CONTACT:02 99 00 22 10
ORGANIZER:Ecole du Positif
ATTACH;FMTTYPE="image/jpeg":http://storage.ning.com/topology/rest/1.0/
 file/get/1663576033?profile=original
ATTENDEE;ROLE=REQ-PARTICIPANT;PARTSTAT=ACCEPTED;RSVP=TRUE;CN="Institut
  du Yoga du Rire":https://epanews.fr/profile/InstitutduYogaduRire
END:VEVENT
END:VCALENDAR
