BEGIN:VCALENDAR
PRODID:NingEventWidget-v1
VERSION:2.0
METHOD:PUBLISH
BEGIN:VTIMEZONE
TZID:Europe/Paris
X-LIC-LOCATION:Europe/Paris
BEGIN:DAYLIGHT
TZOFFSETFROM:+0100
TZOFFSETTO:+0200
TZNAME:CEST
DTSTART:19700329T020000
RRULE:FREQ=YEARLY;BYMONTH=3;BYDAY=-1SU
END:DAYLIGHT
BEGIN:STANDARD
TZOFFSETFROM:+0200
TZOFFSETTO:+0100
TZNAME:CET
DTSTART:19701025T030000
RRULE:FREQ=YEARLY;BYMONTH=10;BYDAY=-1SU
END:STANDARD
END:VTIMEZONE
BEGIN:VEVENT
UID:2485226:Event:2275472
DTSTAMP:20260422T140544Z
SUMMARY:Atelier de mÃ©ditation des sens
DESCRIPTION:Le vendredi sur Nantes, venez prendre un temps pourÂ explo
 rer et vous Ã©veiller Ã  vos propres ressources avec la mÃ©ditation de
 s sens.\nChaque atelier est l'occasion d'explorer une thÃ©matique diff
 Ã©rente :\n\nLa respiration\nLa vue\nLâ€™ouÃ¯e, la voix\nLe mouvement 
 et lâ€™immobilitÃ©\nLes pensÃ©es, la rÃ©flexion et le vide mental\nLâ€
 ™Ã©nergie dâ€™Etre\nLâ€™imagination, la visualisation\nLe goÃ»t, lâ€™o
 dorat\nLe toucher\n\nVendredi prochain le 3 avril, nous mÃ©diterons su
 r \"Les pensÃ©es, la rÃ©flexion et le vide mental\"\nVous trouverez pl
 us d'informations ainsi que les modalitÃ©s sur mon site Internet :Â ww
 w.en-paix-avec-ce-qui-est.fr\n\"Et si Ã  tout moment vous pouviez trou
 ver la Paix avec vous-mÃªme, avec les autres, avec l'univers tout enti
 er ? Votre propre sagesse est lÃ  pour vous guider, apprenez simplemen
 t Ã  lui faire confiance !\"\n\nPour plus d'information, aller sur htt
 ps://epanews.fr/events/atelier-de-m-ditation-des-sens
DTSTART;TZID=Europe/Paris:20150403T043000
DTEND;TZID=Europe/Paris:20150403T100000
CATEGORIES:44
LOCATION:Nantes
WEBSITE:http://www.en-paix-avec-ce-qui-est.fr
URL:http://www.en-paix-avec-ce-qui-est.fr
CONTACT:
ORGANIZER;CN=Guillaume:https://epanews.fr/profile/Guillaume790
ATTACH;FMTTYPE="image/jpeg":http://storage.ning.com/topology/rest/1.0/
 file/get/1663363005?profile=original
ATTENDEE;ROLE=REQ-PARTICIPANT;PARTSTAT=ACCEPTED;RSVP=TRUE;CN=Guillaume
 :https://epanews.fr/profile/Guillaume790
END:VEVENT
END:VCALENDAR
