BEGIN:VCALENDAR
PRODID:NingEventWidget-v1
VERSION:2.0
METHOD:PUBLISH
BEGIN:VTIMEZONE
TZID:Europe/Paris
X-LIC-LOCATION:Europe/Paris
BEGIN:DAYLIGHT
TZOFFSETFROM:+0100
TZOFFSETTO:+0200
TZNAME:CEST
DTSTART:19700329T020000
RRULE:FREQ=YEARLY;BYMONTH=3;BYDAY=-1SU
END:DAYLIGHT
BEGIN:STANDARD
TZOFFSETFROM:+0200
TZOFFSETTO:+0100
TZNAME:CET
DTSTART:19701025T030000
RRULE:FREQ=YEARLY;BYMONTH=10;BYDAY=-1SU
END:STANDARD
END:VTIMEZONE
BEGIN:VEVENT
UID:2485226:Event:2286630
DTSTAMP:20260423T175145Z
SUMMARY:Atelier de méditation des sens
DESCRIPTION:Vendredi sur Nantes, venez prendre un temps pour explorer
  et vous éveiller à vos propres ressources avec la méditation des s
 ens.\nChaque atelier est l'occasion d'explorer une thématique différ
 ente :\n\nLa respiration\nLa vue\nL’ouïe, la voix\nLe mouvement et 
 l’immobilité\nLes pensées, la réflexion et le vide mental\nL’é
 nergie d’Etre\nL’imagination, la visualisation\nLe goût, l’odor
 at\nLe toucher\n\nVendredi prochain le 10 avril, nous méditerons sur 
 \"L'immobilité, le mouvement\"\nVous trouverez plus d'informations ai
 nsi que les modalités sur mon site Internet : www.en-paix-avec-ce-qu
 i-est.fr\n\"Et si à tout moment vous pouviez trouver la Paix avec vou
 s-même, avec les autres, avec l'univers tout entier ? Votre propre sa
 gesse est là pour vous guider, apprenez simplement à lui faire confi
 ance !\"\n\nPour plus d'information, aller sur https://epanews.fr/even
 ts/atelier-de-m-ditation-des-sens-1
DTSTART;TZID=Europe/Paris:20150410T163000
DTEND;TZID=Europe/Paris:20150410T180000
CATEGORIES:44
LOCATION:Nantes
WEBSITE:http://www.en-paix-avec-ce-qui-est.fr
URL:http://www.en-paix-avec-ce-qui-est.fr
CONTACT:
ORGANIZER;CN=Guillaume:https://epanews.fr/profile/Guillaume790
ATTACH;FMTTYPE="image/jpeg":http://storage.ning.com/topology/rest/1.0/
 file/get/1663367100?profile=original
ATTENDEE;ROLE=REQ-PARTICIPANT;PARTSTAT=ACCEPTED;RSVP=TRUE;CN=Guillaume
 :https://epanews.fr/profile/Guillaume790
END:VEVENT
END:VCALENDAR
