BEGIN:VCALENDAR
PRODID:NingEventWidget-v1
VERSION:2.0
METHOD:PUBLISH
BEGIN:VTIMEZONE
TZID:Europe/Paris
X-LIC-LOCATION:Europe/Paris
BEGIN:DAYLIGHT
TZOFFSETFROM:+0100
TZOFFSETTO:+0200
TZNAME:CEST
DTSTART:19700329T020000
RRULE:FREQ=YEARLY;BYMONTH=3;BYDAY=-1SU
END:DAYLIGHT
BEGIN:STANDARD
TZOFFSETFROM:+0200
TZOFFSETTO:+0100
TZNAME:CET
DTSTART:19701025T030000
RRULE:FREQ=YEARLY;BYMONTH=10;BYDAY=-1SU
END:STANDARD
END:VTIMEZONE
BEGIN:VEVENT
UID:2485226:Event:2615563
DTSTAMP:20260424T212633Z
SUMMARY:Atelier de libÃ©ration intÃ©rieure avec Etienne Charest
DESCRIPTION:Atelier de LibÃ©ration intÃ©rieure :\nÂ Â Â Â Â  Â«Â Je su
 is vos Yeux sur lâ€™InvisibleÂ Â»\nEveillÃ© Ã  sa VÃ©ritable Nature en
  2009, Etienne Charest a, depuis, la capacitÃ© de voir et ressentir lâ
 €™invisible dans vos corps subtils, lÃ  oÃ¹ les peurs et les croyances
  se logent et crÃ©ent des limitations dans votre vie. Il accÃ¨de Ã  se
 s Ã©nergies et vous aide Ã  les transformer grÃ¢ce Ã  des exercices et
  ces enseignements.Â Ce travail facilite le passage dâ€™un fonctionnem
 ent mental Ã  une bienveillante prÃ©sence Ã  soi.Â \nIl vous accompagn
 era ainsi pour refaire circuler la Vie en vous et vous rapprocher de v
 otre vÃ©ritÃ© intÃ©rieure. Etant libÃ©rÃ©es de ce qui voilait la consc
 ience, joie et lÃ©gÃ¨retÃ© se manifestent. Votre vie devient plus simp
 le et rayonnante. Etienne vient spÃ©cialement du QuÃ©bec en France pou
 r vous rencontrer.\nVenez goÃ»ter Ã  sa prÃ©sence bienveillante, son e
 nseignement authentique et son travail de libÃ©ration puissantÂ !\nPar
 ticipation : 200â‚¬\nInformations et inscription NantesÂ : cliquer ici
  ou si le fichier ne sâ€™ouvre pas, demander Ã  EstelleÂ : estelle.h.3
 1@gmail.com ou au 06.41.66.17.79\nAtelier%20%C3%A0%20Nantes%20le%2028-
 29%20mai%202016.docx\n\nPour plus d'information, aller sur https://epa
 news.fr/events/atelier-de-lib-ration-int-rieure-avec-etienne-charest-3
DTSTART;TZID=Europe/Paris:20160528T000000
DTEND;TZID=Europe/Paris:20160529T235900
CATEGORIES:44
LOCATION:NANTES
WEBSITE:http://etiennecharest.com
URL:http://etiennecharest.com
CONTACT:06.41.66.17.79
ORGANIZER:Estelle
ATTACH;FMTTYPE="image/jpeg":http://storage.ning.com/topology/rest/1.0/
 file/get/1663549423?profile=original
ATTENDEE;ROLE=REQ-PARTICIPANT;PARTSTAT=ACCEPTED;RSVP=TRUE;CN="Etienne 
 C":https://epanews.fr/profile/EtienneC
END:VEVENT
END:VCALENDAR
