BEGIN:VCALENDAR
PRODID:NingEventWidget-v1
VERSION:2.0
METHOD:PUBLISH
BEGIN:VTIMEZONE
TZID:Europe/Paris
X-LIC-LOCATION:Europe/Paris
BEGIN:DAYLIGHT
TZOFFSETFROM:+0100
TZOFFSETTO:+0200
TZNAME:CEST
DTSTART:19700329T020000
RRULE:FREQ=YEARLY;BYMONTH=3;BYDAY=-1SU
END:DAYLIGHT
BEGIN:STANDARD
TZOFFSETFROM:+0200
TZOFFSETTO:+0100
TZNAME:CET
DTSTART:19701025T030000
RRULE:FREQ=YEARLY;BYMONTH=10;BYDAY=-1SU
END:STANDARD
END:VTIMEZONE
BEGIN:VEVENT
UID:2485226:Event:2561585
DTSTAMP:20260422T040251Z
SUMMARY:Atelier de La reconnexion Ã  votre famille dâ€™Ã¢me, de crÃ©at
 ion et de Kundalini. activation de vos trois couronnes radiantes (tÃªt
 e-coeur-sacrum)
DESCRIPTION:Lâ€™activation de vos trois couronnes radiantes (tÃªte-coe
 ur-sacrum)\nÂ \nNous sommes heureux de vous proposer ce nouvel atelier
  qui est la suite logique du premier atelier (Atelier de guÃ©rson bio-
 Ã©nergÃ©tique et de mÃ©diumnitÃ© Â«Â Nous sommes tous guÃ©risseurs et 
 mÃ©diumsÂ Â»). Â Lors de cet atelier vous allez apprendre Ã  vous conn
 ecter Ã  votre famille dâ€™Ã¢me, la nouvelle faÃ§on de la crÃ©ation ai
 nsi que la Kundalini.\nLa reconnexion Ã  votre famille dâ€™Ã¢me\nLorsq
 ue nous avanÃ§ons sur notre chemin de guÃ©rison dâ€™autres ouvertures 
 sâ€™offrent Ã  nous. Â Une de ces portes est la prise deÂ contact avec
  votre peuplade.Â Chaque Ã¢me vient dâ€™un endroit de lâ€™univers que 
 ce soit dâ€™Orion, de Siruis, de VÃ©nus, ou des PlÃ©iades comme OlÃ©si
 a ou de lâ€™Agartha comme Christophe qui est Atlante, chaque Ã¢me vien
 t de quelque part.\nIl est temps pour vous de savoir qui vous Ãªtes rÃ
 ©ellement et de quelle peuplade vous faites partie. Et dÃ©sormais, il 
 est possible Â pour ceux qui sont arrivÃ©s Ã  ce stade, de travailler 
 consciemment avec les membres de leur famille dâ€™Ã¢me. De par cette r
 econnexion, vous ouvrirez votre multi-dimensionnalitÃ© Ã  travers votr
 e couronne radiante de la tÃªte. Ceci vous mÃ¨nera Ã  vous dÃ©couvrir 
 dans votre multi-dimensionnalitÃ©.\nÂ \nLa crÃ©ation\nPour ce qui est 
 de la crÃ©ation, des nouvelles informations concernant la loi de lâ€™a
 ttraction nous ont Ã©tÃ© donnÃ©es par nos guides afin quâ€™on puisse c
 rÃ©er en fonction du nouveau taux vibratoire de la Terre, des Ã©nergie
 s cosmiques ainsi que de notre propre multi-dimensionnalitÃ©. Â ArrivÃ
 ©s a ce haut niveau de conscience, les crÃ©ations seront plus faciles 
 Ã  mettre en place et plus rapides. Câ€™est toujours une histoire de c
 onscience donc de taux vibratoire.\nÂ \nLa kundalini\nCette couronne r
 adiante du sacrum est lâ€™Ã©nergie de guÃ©rison, Â de purification et 
 des prises de consciences par excellence mais aussi de connexion. Câ€™
 est le processusÂ de la Kundalini qui vous mÃ¨ne Ã  lâ€™aboutissement 
 de vos capacitÃ©s dâ€™Ã¢me. Lors de cet atelier, la Kundalini sera act
 ivÃ©e pour certains et pour dâ€™autres, la montÃ©e se fera. Ceci dÃ©pe
 nds toujours du travail accompli sur vous. Chaque personne recevra le 
 soin et apprendra cette pratique.\nCe soin,Â tous ceux qui sont sur le
  chemin de lâ€™Ã©volution devraient en bÃ©nÃ©ficier.Â Tous les thÃ©rap
 eutes Ã©nergÃ©tiques devraient aussi le proposer Ã  leurs patients. Câ
 €™est lâ€™aide la plus considÃ©rable que nous pouvons donner pour le b
 ien de tous.\nPrix : 250 euros ( Les places sont limitÃ©es. RÃ©servati
 on de 50 euros obligatoire\nÂ \n\nPour plus d'information, aller sur h
 ttps://epanews.fr/events/atelier-de-la-reconnexion-votre-famille-d-me-
 de-cr-ation-et-de-1
DTSTART;TZID=Europe/Paris:20160116T180000
DTEND;TZID=Europe/Paris:20160116T190000
CATEGORIES:belgique
LOCATION:Centre Marina 6700 Arlon
WEBSITE:http://christolesia.com
URL:http://christolesia.com
CONTACT:0033612742429
ORGANIZER;CN=ChristOlÃ©sia:https://epanews.fr/profile/indica
ATTACH;FMTTYPE="image/jpeg":http://storage.ning.com/topology/rest/1.0/
 file/get/1663514470?profile=original
ATTENDEE;ROLE=REQ-PARTICIPANT;PARTSTAT=ACCEPTED;RSVP=TRUE;CN=ChristOlÃ
 ©sia:https://epanews.fr/profile/indica
END:VEVENT
END:VCALENDAR
