BEGIN:VCALENDAR
PRODID:NingEventWidget-v1
VERSION:2.0
METHOD:PUBLISH
BEGIN:VTIMEZONE
TZID:Europe/Paris
X-LIC-LOCATION:Europe/Paris
BEGIN:DAYLIGHT
TZOFFSETFROM:+0100
TZOFFSETTO:+0200
TZNAME:CEST
DTSTART:19700329T020000
RRULE:FREQ=YEARLY;BYMONTH=3;BYDAY=-1SU
END:DAYLIGHT
BEGIN:STANDARD
TZOFFSETFROM:+0200
TZOFFSETTO:+0100
TZNAME:CET
DTSTART:19701025T030000
RRULE:FREQ=YEARLY;BYMONTH=10;BYDAY=-1SU
END:STANDARD
END:VTIMEZONE
BEGIN:VEVENT
UID:2485226:Event:2886303
DTSTAMP:20260421T221644Z
SUMMARY:Atelier de Guidance Informationnelle
DESCRIPTION:Atelier de Guidance Informationnelle par MÃ©laine Tara Bon
 zomSamedi 25 Novembre de 14h00 Ã  17h00\nJe vous propose par cet ateli
 er de 3 heures, dd'entrer dans l'expÃ©rimentaton, la dÃ©couverte de la
  rÃ©-information cellulaire, axÃ©e sur une approche Quantique.Cet atel
 ier est ouvert Ã  tous, pas de formations prÃ©alables nÃ©cessaires.A t
 ravers cet atelier, vous pourrez dÃ©couvrir votre propre test kinesthÃ
 ©sique, rÃ©ponse du corps, expÃ©rimenter la rÃ©-information avec l'aid
 e de support, rÃ©-informer en binÃ´me, l'autre, et recevoir une sÃ©anc
 e en rÃ©-information cellulaire.Cet atelier va vous permettre de dÃ©co
 der votre rÃ©alitÃ©, par rapport Ã  un thÃ¨me que vous voudriez voir Ã
 ©voluer.Mettre du sens sur cette situaton, Ã  travers les informations
  mises Ã  jour intuitivement et avec l'aide des grilles de lecture.Int
 Ã©grer le DÃ©fi proposÃ© par cette situation, accueillir le Cadeau pro
 posÃ© derriÃ¨re cette rÃ©alitÃ©.AccÃ©der aux Ressources IntÃ©rieures e
 t moyens que vous pouvez vous proposer, pour faire face Ã  ce \"DÃ©fi 
 de rÃ©alitÃ©\".RÃ©-aligner vos choix et mettre en coexistence toutes v
 os parties dans cette situation.\nAinsi dans la situation abordÃ©e, \"
 le chantier relationnel\", vous aurez amener du sens, dÃ©coder les par
 ts de vous -mÃªme exprimÃ©es dans cette situation, mis Ã  jour et rÃ©i
 nformer vos champs informationnels, afin d'amener une nouvelle clartÃ©
  et rÃ©sonance dans votre rÃ©alitÃ©, rÃ©sonance avec vos nouveaux choi
 x.Les champs informationnels rÃ©-informÃ©s, de nouvelles expÃ©riences 
 peuvent se proposer, un nouveau champ d'exploration s'ouvre Ã  vous.\n
 Tarifs 40â‚¬ non adhÃ©rent - 37â‚¬ adhÃ©rent - Places limitÃ©es\nRÃ©se
 rvations MÃ©laine 06.12.63.72.37\nLieu : L'arc en ciel du partage1 rue
  garanciÃ¨re 11100 narbonnewww.larcencieldupartage.org\n\nPour plus d'
 information, aller sur https://epanews.fr/events/atelier-de-guidance-i
 nformationnelle
DTSTART;TZID=Europe/Paris:20171125T140000
DTEND;TZID=Europe/Paris:20171125T170000
CATEGORIES:11
LOCATION:narbonne
WEBSITE:http://www.larcencieldupartage.org
URL:http://www.larcencieldupartage.org
CONTACT:0612637237
ORGANIZER;CN="L'arc en ciel du partage":https://epanews.fr/profile/Lar
 cencieldupartage
ATTACH;FMTTYPE="image/jpeg":http://storage.ning.com/topology/rest/1.0/
 file/get/1663693261?profile=original
ATTENDEE;ROLE=REQ-PARTICIPANT;PARTSTAT=ACCEPTED;RSVP=TRUE;CN="L'arc en
  ciel du partage":https://epanews.fr/profile/Larcencieldupartage
END:VEVENT
END:VCALENDAR
